BEGIN:VCALENDAR
VERSION:2.0
PRODID:-//Tate&#039;s Gaming Satellite - ECPv6.15.20//NONSGML v1.0//EN
CALSCALE:GREGORIAN
METHOD:PUBLISH
X-WR-CALNAME:Tate&#039;s Gaming Satellite
X-ORIGINAL-URL:https://tatesgaming.com
X-WR-CALDESC:Events for Tate&#039;s Gaming Satellite
REFRESH-INTERVAL;VALUE=DURATION:PT1H
X-Robots-Tag:noindex
X-PUBLISHED-TTL:PT1H
BEGIN:VTIMEZONE
TZID:America/New_York
BEGIN:DAYLIGHT
TZOFFSETFROM:-0500
TZOFFSETTO:-0400
TZNAME:EDT
DTSTART:20220313T070000
END:DAYLIGHT
BEGIN:STANDARD
TZOFFSETFROM:-0400
TZOFFSETTO:-0500
TZNAME:EST
DTSTART:20221106T060000
END:STANDARD
BEGIN:DAYLIGHT
TZOFFSETFROM:-0500
TZOFFSETTO:-0400
TZNAME:EDT
DTSTART:20230312T070000
END:DAYLIGHT
BEGIN:STANDARD
TZOFFSETFROM:-0400
TZOFFSETTO:-0500
TZNAME:EST
DTSTART:20231105T060000
END:STANDARD
BEGIN:DAYLIGHT
TZOFFSETFROM:-0500
TZOFFSETTO:-0400
TZNAME:EDT
DTSTART:20240310T070000
END:DAYLIGHT
BEGIN:STANDARD
TZOFFSETFROM:-0400
TZOFFSETTO:-0500
TZNAME:EST
DTSTART:20241103T060000
END:STANDARD
END:VTIMEZONE
BEGIN:VEVENT
DTSTART;TZID=America/New_York:20231104T160000
DTEND;TZID=America/New_York:20231104T220000
DTSTAMP:20260423T135758
CREATED:20210731T175302Z
LAST-MODIFIED:20240410T175759Z
UID:10002684-1699113600-1699135200@tatesgaming.com
SUMMARY:Digimon TCG Tournament
DESCRIPTION:Digimon players\, join us for our weekly Digimon TCG tournaments! \n• Dates: Every Saturday\n• Start Time: 4:00 pm\n• Registration ends @ 3:50 pm\n• Entry: $10\n• Format: Standard\, Swiss\, Best of 3\, 50 minute rounds \nPrize support is based on the number of entrants.
URL:https://tatesgaming.com/event/digimon-tcg-tournament/2023-11-04/
LOCATION:FL
CATEGORIES:Digimon
ATTACH;FMTTYPE=image/png:https://tatesgaming.com/wp-content/uploads/2021/07/digimon_website_slider.png
END:VEVENT
BEGIN:VEVENT
DTSTART;TZID=America/New_York:20231111T160000
DTEND;TZID=America/New_York:20231111T190000
DTSTAMP:20260423T135758
CREATED:20231108T195411Z
LAST-MODIFIED:20231108T195411Z
UID:10002948-1699718400-1699729200@tatesgaming.com
SUMMARY:Digimon TCG Prerelease - Blast Ace [BT-14]
DESCRIPTION:Digimon trainers! Join us for our BT-14 Blast Ace Prerelease! Here are the details: \n• Date: Saturday\, November 11th\, 2023\n• Time: 4:00pm\n• Registration: Bandai TCG+ app given priority entry\n• Format: Sealed\n• Entry: $30\n• Capacity: 16 per flight\, 2 flights available. \nA limited number of booster boxes will be available for purchase for starting on Friday\, November 11th.
URL:https://tatesgaming.com/event/digimon-tcg-prerelease-blast-ace-bt-14/
LOCATION:TATE’S Gaming Satellite\, 4580 N. University Drive\, Lauderhill\, FL\, 33351\, United States
CATEGORIES:Digimon,Slider Feature
ATTACH;FMTTYPE=image/png:https://tatesgaming.com/wp-content/uploads/2023/11/bt14-blast-ace-prerelease-slider.png
GEO:26.1823829;-80.2509514
X-APPLE-STRUCTURED-LOCATION;VALUE=URI;X-ADDRESS=TATE’S Gaming Satellite 4580 N. University Drive Lauderhill FL 33351 United States;X-APPLE-RADIUS=500;X-TITLE=4580 N. University Drive:geo:-80.2509514,26.1823829
END:VEVENT
BEGIN:VEVENT
DTSTART;TZID=America/New_York:20231111T160000
DTEND;TZID=America/New_York:20231111T220000
DTSTAMP:20260423T135758
CREATED:20210731T175302Z
LAST-MODIFIED:20240410T175759Z
UID:10002685-1699718400-1699740000@tatesgaming.com
SUMMARY:Digimon TCG Tournament
DESCRIPTION:Digimon players\, join us for our weekly Digimon TCG tournaments! \n• Dates: Every Saturday\n• Start Time: 4:00 pm\n• Registration ends @ 3:50 pm\n• Entry: $10\n• Format: Standard\, Swiss\, Best of 3\, 50 minute rounds \nPrize support is based on the number of entrants.
URL:https://tatesgaming.com/event/digimon-tcg-tournament/2023-11-11/
LOCATION:FL
CATEGORIES:Digimon
ATTACH;FMTTYPE=image/png:https://tatesgaming.com/wp-content/uploads/2021/07/digimon_website_slider.png
END:VEVENT
BEGIN:VEVENT
DTSTART;TZID=America/New_York:20231118T160000
DTEND;TZID=America/New_York:20231118T220000
DTSTAMP:20260423T135758
CREATED:20210731T175302Z
LAST-MODIFIED:20240410T175759Z
UID:10002686-1700323200-1700344800@tatesgaming.com
SUMMARY:Digimon TCG Tournament
DESCRIPTION:Digimon players\, join us for our weekly Digimon TCG tournaments! \n• Dates: Every Saturday\n• Start Time: 4:00 pm\n• Registration ends @ 3:50 pm\n• Entry: $10\n• Format: Standard\, Swiss\, Best of 3\, 50 minute rounds \nPrize support is based on the number of entrants.
URL:https://tatesgaming.com/event/digimon-tcg-tournament/2023-11-18/
LOCATION:FL
CATEGORIES:Digimon
ATTACH;FMTTYPE=image/png:https://tatesgaming.com/wp-content/uploads/2021/07/digimon_website_slider.png
END:VEVENT
BEGIN:VEVENT
DTSTART;TZID=America/New_York:20231125T160000
DTEND;TZID=America/New_York:20231125T220000
DTSTAMP:20260423T135758
CREATED:20210731T175302Z
LAST-MODIFIED:20240410T175759Z
UID:10002687-1700928000-1700949600@tatesgaming.com
SUMMARY:Digimon TCG Tournament
DESCRIPTION:Digimon players\, join us for our weekly Digimon TCG tournaments! \n• Dates: Every Saturday\n• Start Time: 4:00 pm\n• Registration ends @ 3:50 pm\n• Entry: $10\n• Format: Standard\, Swiss\, Best of 3\, 50 minute rounds \nPrize support is based on the number of entrants.
URL:https://tatesgaming.com/event/digimon-tcg-tournament/2023-11-25/
LOCATION:FL
CATEGORIES:Digimon
ATTACH;FMTTYPE=image/png:https://tatesgaming.com/wp-content/uploads/2021/07/digimon_website_slider.png
END:VEVENT
END:VCALENDAR