BEGIN:VCALENDAR
VERSION:2.0
PRODID:-//Tate&#039;s Gaming Satellite - ECPv6.15.20//NONSGML v1.0//EN
CALSCALE:GREGORIAN
METHOD:PUBLISH
X-ORIGINAL-URL:https://tatesgaming.com
X-WR-CALDESC:Events for Tate&#039;s Gaming Satellite
REFRESH-INTERVAL;VALUE=DURATION:PT1H
X-Robots-Tag:noindex
X-PUBLISHED-TTL:PT1H
BEGIN:VTIMEZONE
TZID:America/New_York
BEGIN:DAYLIGHT
TZOFFSETFROM:-0500
TZOFFSETTO:-0400
TZNAME:EDT
DTSTART:20220313T070000
END:DAYLIGHT
BEGIN:STANDARD
TZOFFSETFROM:-0400
TZOFFSETTO:-0500
TZNAME:EST
DTSTART:20221106T060000
END:STANDARD
BEGIN:DAYLIGHT
TZOFFSETFROM:-0500
TZOFFSETTO:-0400
TZNAME:EDT
DTSTART:20230312T070000
END:DAYLIGHT
BEGIN:STANDARD
TZOFFSETFROM:-0400
TZOFFSETTO:-0500
TZNAME:EST
DTSTART:20231105T060000
END:STANDARD
BEGIN:DAYLIGHT
TZOFFSETFROM:-0500
TZOFFSETTO:-0400
TZNAME:EDT
DTSTART:20240310T070000
END:DAYLIGHT
BEGIN:STANDARD
TZOFFSETFROM:-0400
TZOFFSETTO:-0500
TZNAME:EST
DTSTART:20241103T060000
END:STANDARD
END:VTIMEZONE
BEGIN:VEVENT
DTSTART;TZID=America/New_York:20231202T160000
DTEND;TZID=America/New_York:20231202T220000
DTSTAMP:20260423T122811
CREATED:20210731T175302Z
LAST-MODIFIED:20240410T175759Z
UID:10002688-1701532800-1701554400@tatesgaming.com
SUMMARY:Digimon TCG Tournament
DESCRIPTION:Digimon players\, join us for our weekly Digimon TCG tournaments! \n• Dates: Every Saturday\n• Start Time: 4:00 pm\n• Registration ends @ 3:50 pm\n• Entry: $10\n• Format: Standard\, Swiss\, Best of 3\, 50 minute rounds \nPrize support is based on the number of entrants.
URL:https://tatesgaming.com/event/digimon-tcg-tournament/2023-12-02/
LOCATION:FL
CATEGORIES:Digimon
ATTACH;FMTTYPE=image/png:https://tatesgaming.com/wp-content/uploads/2021/07/digimon_website_slider.png
END:VEVENT
BEGIN:VEVENT
DTSTART;TZID=America/New_York:20231209T160000
DTEND;TZID=America/New_York:20231209T220000
DTSTAMP:20260423T122811
CREATED:20210731T175302Z
LAST-MODIFIED:20240410T175759Z
UID:10002689-1702137600-1702159200@tatesgaming.com
SUMMARY:Digimon TCG Tournament
DESCRIPTION:Digimon players\, join us for our weekly Digimon TCG tournaments! \n• Dates: Every Saturday\n• Start Time: 4:00 pm\n• Registration ends @ 3:50 pm\n• Entry: $10\n• Format: Standard\, Swiss\, Best of 3\, 50 minute rounds \nPrize support is based on the number of entrants.
URL:https://tatesgaming.com/event/digimon-tcg-tournament/2023-12-09/
LOCATION:FL
CATEGORIES:Digimon
ATTACH;FMTTYPE=image/png:https://tatesgaming.com/wp-content/uploads/2021/07/digimon_website_slider.png
END:VEVENT
BEGIN:VEVENT
DTSTART;TZID=America/New_York:20231216T160000
DTEND;TZID=America/New_York:20231216T220000
DTSTAMP:20260423T122811
CREATED:20210731T175302Z
LAST-MODIFIED:20240410T175759Z
UID:10002690-1702742400-1702764000@tatesgaming.com
SUMMARY:Digimon TCG Tournament
DESCRIPTION:Digimon players\, join us for our weekly Digimon TCG tournaments! \n• Dates: Every Saturday\n• Start Time: 4:00 pm\n• Registration ends @ 3:50 pm\n• Entry: $10\n• Format: Standard\, Swiss\, Best of 3\, 50 minute rounds \nPrize support is based on the number of entrants.
URL:https://tatesgaming.com/event/digimon-tcg-tournament/2023-12-16/
LOCATION:FL
CATEGORIES:Digimon
ATTACH;FMTTYPE=image/png:https://tatesgaming.com/wp-content/uploads/2021/07/digimon_website_slider.png
END:VEVENT
BEGIN:VEVENT
DTSTART;TZID=America/New_York:20231223T160000
DTEND;TZID=America/New_York:20231223T220000
DTSTAMP:20260423T122811
CREATED:20210731T175302Z
LAST-MODIFIED:20240410T175759Z
UID:10002691-1703347200-1703368800@tatesgaming.com
SUMMARY:Digimon TCG Tournament
DESCRIPTION:Digimon players\, join us for our weekly Digimon TCG tournaments! \n• Dates: Every Saturday\n• Start Time: 4:00 pm\n• Registration ends @ 3:50 pm\n• Entry: $10\n• Format: Standard\, Swiss\, Best of 3\, 50 minute rounds \nPrize support is based on the number of entrants.
URL:https://tatesgaming.com/event/digimon-tcg-tournament/2023-12-23/
LOCATION:FL
CATEGORIES:Digimon
ATTACH;FMTTYPE=image/png:https://tatesgaming.com/wp-content/uploads/2021/07/digimon_website_slider.png
END:VEVENT
BEGIN:VEVENT
DTSTART;TZID=America/New_York:20231230T160000
DTEND;TZID=America/New_York:20231230T220000
DTSTAMP:20260423T122811
CREATED:20210731T175302Z
LAST-MODIFIED:20240410T175759Z
UID:10002692-1703952000-1703973600@tatesgaming.com
SUMMARY:Digimon TCG Tournament
DESCRIPTION:Digimon players\, join us for our weekly Digimon TCG tournaments! \n• Dates: Every Saturday\n• Start Time: 4:00 pm\n• Registration ends @ 3:50 pm\n• Entry: $10\n• Format: Standard\, Swiss\, Best of 3\, 50 minute rounds \nPrize support is based on the number of entrants.
URL:https://tatesgaming.com/event/digimon-tcg-tournament/2023-12-30/
LOCATION:FL
CATEGORIES:Digimon
ATTACH;FMTTYPE=image/png:https://tatesgaming.com/wp-content/uploads/2021/07/digimon_website_slider.png
END:VEVENT
END:VCALENDAR