BEGIN:VCALENDAR
VERSION:2.0
PRODID:-//Tate&#039;s Gaming Satellite - ECPv6.15.20//NONSGML v1.0//EN
CALSCALE:GREGORIAN
METHOD:PUBLISH
X-WR-CALNAME:Tate&#039;s Gaming Satellite
X-ORIGINAL-URL:https://tatesgaming.com
X-WR-CALDESC:Events for Tate&#039;s Gaming Satellite
REFRESH-INTERVAL;VALUE=DURATION:PT1H
X-Robots-Tag:noindex
X-PUBLISHED-TTL:PT1H
BEGIN:VTIMEZONE
TZID:America/New_York
BEGIN:DAYLIGHT
TZOFFSETFROM:-0500
TZOFFSETTO:-0400
TZNAME:EDT
DTSTART:20260308T070000
END:DAYLIGHT
BEGIN:STANDARD
TZOFFSETFROM:-0400
TZOFFSETTO:-0500
TZNAME:EST
DTSTART:20261101T060000
END:STANDARD
BEGIN:DAYLIGHT
TZOFFSETFROM:-0500
TZOFFSETTO:-0400
TZNAME:EDT
DTSTART:20270314T070000
END:DAYLIGHT
BEGIN:STANDARD
TZOFFSETFROM:-0400
TZOFFSETTO:-0500
TZNAME:EST
DTSTART:20271107T060000
END:STANDARD
BEGIN:DAYLIGHT
TZOFFSETFROM:-0500
TZOFFSETTO:-0400
TZNAME:EDT
DTSTART:20280312T070000
END:DAYLIGHT
BEGIN:STANDARD
TZOFFSETFROM:-0400
TZOFFSETTO:-0500
TZNAME:EST
DTSTART:20281105T060000
END:STANDARD
END:VTIMEZONE
BEGIN:VEVENT
DTSTART;TZID=America/New_York:20270412T190000
DTEND;TZID=America/New_York:20270412T220000
DTSTAMP:20260421T063657
CREATED:20251230T202706Z
LAST-MODIFIED:20251230T203748Z
UID:10003934-1807556400-1807567200@tatesgaming.com
SUMMARY:Gundam TCG
DESCRIPTION:Gundam pilots! Join us every Monday to put your skills to the test on the field of battle! \nWhen: Mondays\nTime: 7:00 pm\nEntry: $10.00\nFormat: Constructed
URL:https://tatesgaming.com/event/gundam-tcg/2027-04-12/
LOCATION:TATE’S Gaming Satellite\, 4580 N. University Drive\, Lauderhill\, FL\, 33351\, United States
CATEGORIES:Gundam TCG
ATTACH;FMTTYPE=image/png:https://tatesgaming.com/wp-content/uploads/2025/12/gundam-event.png
GEO:26.1823829;-80.2509514
X-APPLE-STRUCTURED-LOCATION;VALUE=URI;X-ADDRESS=TATE’S Gaming Satellite 4580 N. University Drive Lauderhill FL 33351 United States;X-APPLE-RADIUS=500;X-TITLE=4580 N. University Drive:geo:-80.2509514,26.1823829
END:VEVENT
BEGIN:VEVENT
DTSTART;TZID=America/New_York:20270419T190000
DTEND;TZID=America/New_York:20270419T220000
DTSTAMP:20260421T063657
CREATED:20251230T202706Z
LAST-MODIFIED:20251230T203748Z
UID:10003935-1808161200-1808172000@tatesgaming.com
SUMMARY:Gundam TCG
DESCRIPTION:Gundam pilots! Join us every Monday to put your skills to the test on the field of battle! \nWhen: Mondays\nTime: 7:00 pm\nEntry: $10.00\nFormat: Constructed
URL:https://tatesgaming.com/event/gundam-tcg/2027-04-19/
LOCATION:TATE’S Gaming Satellite\, 4580 N. University Drive\, Lauderhill\, FL\, 33351\, United States
CATEGORIES:Gundam TCG
ATTACH;FMTTYPE=image/png:https://tatesgaming.com/wp-content/uploads/2025/12/gundam-event.png
GEO:26.1823829;-80.2509514
X-APPLE-STRUCTURED-LOCATION;VALUE=URI;X-ADDRESS=TATE’S Gaming Satellite 4580 N. University Drive Lauderhill FL 33351 United States;X-APPLE-RADIUS=500;X-TITLE=4580 N. University Drive:geo:-80.2509514,26.1823829
END:VEVENT
BEGIN:VEVENT
DTSTART;TZID=America/New_York:20270426T190000
DTEND;TZID=America/New_York:20270426T220000
DTSTAMP:20260421T063657
CREATED:20251230T202706Z
LAST-MODIFIED:20251230T203748Z
UID:10003936-1808766000-1808776800@tatesgaming.com
SUMMARY:Gundam TCG
DESCRIPTION:Gundam pilots! Join us every Monday to put your skills to the test on the field of battle! \nWhen: Mondays\nTime: 7:00 pm\nEntry: $10.00\nFormat: Constructed
URL:https://tatesgaming.com/event/gundam-tcg/2027-04-26/
LOCATION:TATE’S Gaming Satellite\, 4580 N. University Drive\, Lauderhill\, FL\, 33351\, United States
CATEGORIES:Gundam TCG
ATTACH;FMTTYPE=image/png:https://tatesgaming.com/wp-content/uploads/2025/12/gundam-event.png
GEO:26.1823829;-80.2509514
X-APPLE-STRUCTURED-LOCATION;VALUE=URI;X-ADDRESS=TATE’S Gaming Satellite 4580 N. University Drive Lauderhill FL 33351 United States;X-APPLE-RADIUS=500;X-TITLE=4580 N. University Drive:geo:-80.2509514,26.1823829
END:VEVENT
BEGIN:VEVENT
DTSTART;TZID=America/New_York:20270503T190000
DTEND;TZID=America/New_York:20270503T220000
DTSTAMP:20260421T063657
CREATED:20251230T202706Z
LAST-MODIFIED:20251230T203748Z
UID:10003937-1809370800-1809381600@tatesgaming.com
SUMMARY:Gundam TCG
DESCRIPTION:Gundam pilots! Join us every Monday to put your skills to the test on the field of battle! \nWhen: Mondays\nTime: 7:00 pm\nEntry: $10.00\nFormat: Constructed
URL:https://tatesgaming.com/event/gundam-tcg/2027-05-03/
LOCATION:TATE’S Gaming Satellite\, 4580 N. University Drive\, Lauderhill\, FL\, 33351\, United States
CATEGORIES:Gundam TCG
ATTACH;FMTTYPE=image/png:https://tatesgaming.com/wp-content/uploads/2025/12/gundam-event.png
GEO:26.1823829;-80.2509514
X-APPLE-STRUCTURED-LOCATION;VALUE=URI;X-ADDRESS=TATE’S Gaming Satellite 4580 N. University Drive Lauderhill FL 33351 United States;X-APPLE-RADIUS=500;X-TITLE=4580 N. University Drive:geo:-80.2509514,26.1823829
END:VEVENT
BEGIN:VEVENT
DTSTART;TZID=America/New_York:20270510T190000
DTEND;TZID=America/New_York:20270510T220000
DTSTAMP:20260421T063657
CREATED:20251230T202706Z
LAST-MODIFIED:20251230T203748Z
UID:10003938-1809975600-1809986400@tatesgaming.com
SUMMARY:Gundam TCG
DESCRIPTION:Gundam pilots! Join us every Monday to put your skills to the test on the field of battle! \nWhen: Mondays\nTime: 7:00 pm\nEntry: $10.00\nFormat: Constructed
URL:https://tatesgaming.com/event/gundam-tcg/2027-05-10/
LOCATION:TATE’S Gaming Satellite\, 4580 N. University Drive\, Lauderhill\, FL\, 33351\, United States
CATEGORIES:Gundam TCG
ATTACH;FMTTYPE=image/png:https://tatesgaming.com/wp-content/uploads/2025/12/gundam-event.png
GEO:26.1823829;-80.2509514
X-APPLE-STRUCTURED-LOCATION;VALUE=URI;X-ADDRESS=TATE’S Gaming Satellite 4580 N. University Drive Lauderhill FL 33351 United States;X-APPLE-RADIUS=500;X-TITLE=4580 N. University Drive:geo:-80.2509514,26.1823829
END:VEVENT
BEGIN:VEVENT
DTSTART;TZID=America/New_York:20270517T190000
DTEND;TZID=America/New_York:20270517T220000
DTSTAMP:20260421T063657
CREATED:20251230T202706Z
LAST-MODIFIED:20251230T203748Z
UID:10003939-1810580400-1810591200@tatesgaming.com
SUMMARY:Gundam TCG
DESCRIPTION:Gundam pilots! Join us every Monday to put your skills to the test on the field of battle! \nWhen: Mondays\nTime: 7:00 pm\nEntry: $10.00\nFormat: Constructed
URL:https://tatesgaming.com/event/gundam-tcg/2027-05-17/
LOCATION:TATE’S Gaming Satellite\, 4580 N. University Drive\, Lauderhill\, FL\, 33351\, United States
CATEGORIES:Gundam TCG
ATTACH;FMTTYPE=image/png:https://tatesgaming.com/wp-content/uploads/2025/12/gundam-event.png
GEO:26.1823829;-80.2509514
X-APPLE-STRUCTURED-LOCATION;VALUE=URI;X-ADDRESS=TATE’S Gaming Satellite 4580 N. University Drive Lauderhill FL 33351 United States;X-APPLE-RADIUS=500;X-TITLE=4580 N. University Drive:geo:-80.2509514,26.1823829
END:VEVENT
BEGIN:VEVENT
DTSTART;TZID=America/New_York:20270524T190000
DTEND;TZID=America/New_York:20270524T220000
DTSTAMP:20260421T063657
CREATED:20251230T202706Z
LAST-MODIFIED:20251230T203748Z
UID:10003940-1811185200-1811196000@tatesgaming.com
SUMMARY:Gundam TCG
DESCRIPTION:Gundam pilots! Join us every Monday to put your skills to the test on the field of battle! \nWhen: Mondays\nTime: 7:00 pm\nEntry: $10.00\nFormat: Constructed
URL:https://tatesgaming.com/event/gundam-tcg/2027-05-24/
LOCATION:TATE’S Gaming Satellite\, 4580 N. University Drive\, Lauderhill\, FL\, 33351\, United States
CATEGORIES:Gundam TCG
ATTACH;FMTTYPE=image/png:https://tatesgaming.com/wp-content/uploads/2025/12/gundam-event.png
GEO:26.1823829;-80.2509514
X-APPLE-STRUCTURED-LOCATION;VALUE=URI;X-ADDRESS=TATE’S Gaming Satellite 4580 N. University Drive Lauderhill FL 33351 United States;X-APPLE-RADIUS=500;X-TITLE=4580 N. University Drive:geo:-80.2509514,26.1823829
END:VEVENT
BEGIN:VEVENT
DTSTART;TZID=America/New_York:20270531T190000
DTEND;TZID=America/New_York:20270531T220000
DTSTAMP:20260421T063657
CREATED:20251230T202706Z
LAST-MODIFIED:20251230T203748Z
UID:10003941-1811790000-1811800800@tatesgaming.com
SUMMARY:Gundam TCG
DESCRIPTION:Gundam pilots! Join us every Monday to put your skills to the test on the field of battle! \nWhen: Mondays\nTime: 7:00 pm\nEntry: $10.00\nFormat: Constructed
URL:https://tatesgaming.com/event/gundam-tcg/2027-05-31/
LOCATION:TATE’S Gaming Satellite\, 4580 N. University Drive\, Lauderhill\, FL\, 33351\, United States
CATEGORIES:Gundam TCG
ATTACH;FMTTYPE=image/png:https://tatesgaming.com/wp-content/uploads/2025/12/gundam-event.png
GEO:26.1823829;-80.2509514
X-APPLE-STRUCTURED-LOCATION;VALUE=URI;X-ADDRESS=TATE’S Gaming Satellite 4580 N. University Drive Lauderhill FL 33351 United States;X-APPLE-RADIUS=500;X-TITLE=4580 N. University Drive:geo:-80.2509514,26.1823829
END:VEVENT
BEGIN:VEVENT
DTSTART;TZID=America/New_York:20270607T190000
DTEND;TZID=America/New_York:20270607T220000
DTSTAMP:20260421T063657
CREATED:20251230T202706Z
LAST-MODIFIED:20251230T203748Z
UID:10003942-1812394800-1812405600@tatesgaming.com
SUMMARY:Gundam TCG
DESCRIPTION:Gundam pilots! Join us every Monday to put your skills to the test on the field of battle! \nWhen: Mondays\nTime: 7:00 pm\nEntry: $10.00\nFormat: Constructed
URL:https://tatesgaming.com/event/gundam-tcg/2027-06-07/
LOCATION:TATE’S Gaming Satellite\, 4580 N. University Drive\, Lauderhill\, FL\, 33351\, United States
CATEGORIES:Gundam TCG
ATTACH;FMTTYPE=image/png:https://tatesgaming.com/wp-content/uploads/2025/12/gundam-event.png
GEO:26.1823829;-80.2509514
X-APPLE-STRUCTURED-LOCATION;VALUE=URI;X-ADDRESS=TATE’S Gaming Satellite 4580 N. University Drive Lauderhill FL 33351 United States;X-APPLE-RADIUS=500;X-TITLE=4580 N. University Drive:geo:-80.2509514,26.1823829
END:VEVENT
BEGIN:VEVENT
DTSTART;TZID=America/New_York:20270614T190000
DTEND;TZID=America/New_York:20270614T220000
DTSTAMP:20260421T063657
CREATED:20251230T202706Z
LAST-MODIFIED:20251230T203748Z
UID:10003943-1812999600-1813010400@tatesgaming.com
SUMMARY:Gundam TCG
DESCRIPTION:Gundam pilots! Join us every Monday to put your skills to the test on the field of battle! \nWhen: Mondays\nTime: 7:00 pm\nEntry: $10.00\nFormat: Constructed
URL:https://tatesgaming.com/event/gundam-tcg/2027-06-14/
LOCATION:TATE’S Gaming Satellite\, 4580 N. University Drive\, Lauderhill\, FL\, 33351\, United States
CATEGORIES:Gundam TCG
ATTACH;FMTTYPE=image/png:https://tatesgaming.com/wp-content/uploads/2025/12/gundam-event.png
GEO:26.1823829;-80.2509514
X-APPLE-STRUCTURED-LOCATION;VALUE=URI;X-ADDRESS=TATE’S Gaming Satellite 4580 N. University Drive Lauderhill FL 33351 United States;X-APPLE-RADIUS=500;X-TITLE=4580 N. University Drive:geo:-80.2509514,26.1823829
END:VEVENT
BEGIN:VEVENT
DTSTART;TZID=America/New_York:20270621T190000
DTEND;TZID=America/New_York:20270621T220000
DTSTAMP:20260421T063657
CREATED:20251230T202706Z
LAST-MODIFIED:20251230T203748Z
UID:10003944-1813604400-1813615200@tatesgaming.com
SUMMARY:Gundam TCG
DESCRIPTION:Gundam pilots! Join us every Monday to put your skills to the test on the field of battle! \nWhen: Mondays\nTime: 7:00 pm\nEntry: $10.00\nFormat: Constructed
URL:https://tatesgaming.com/event/gundam-tcg/2027-06-21/
LOCATION:TATE’S Gaming Satellite\, 4580 N. University Drive\, Lauderhill\, FL\, 33351\, United States
CATEGORIES:Gundam TCG
ATTACH;FMTTYPE=image/png:https://tatesgaming.com/wp-content/uploads/2025/12/gundam-event.png
GEO:26.1823829;-80.2509514
X-APPLE-STRUCTURED-LOCATION;VALUE=URI;X-ADDRESS=TATE’S Gaming Satellite 4580 N. University Drive Lauderhill FL 33351 United States;X-APPLE-RADIUS=500;X-TITLE=4580 N. University Drive:geo:-80.2509514,26.1823829
END:VEVENT
BEGIN:VEVENT
DTSTART;TZID=America/New_York:20270628T190000
DTEND;TZID=America/New_York:20270628T220000
DTSTAMP:20260421T063657
CREATED:20251230T202706Z
LAST-MODIFIED:20251230T203748Z
UID:10003945-1814209200-1814220000@tatesgaming.com
SUMMARY:Gundam TCG
DESCRIPTION:Gundam pilots! Join us every Monday to put your skills to the test on the field of battle! \nWhen: Mondays\nTime: 7:00 pm\nEntry: $10.00\nFormat: Constructed
URL:https://tatesgaming.com/event/gundam-tcg/2027-06-28/
LOCATION:TATE’S Gaming Satellite\, 4580 N. University Drive\, Lauderhill\, FL\, 33351\, United States
CATEGORIES:Gundam TCG
ATTACH;FMTTYPE=image/png:https://tatesgaming.com/wp-content/uploads/2025/12/gundam-event.png
GEO:26.1823829;-80.2509514
X-APPLE-STRUCTURED-LOCATION;VALUE=URI;X-ADDRESS=TATE’S Gaming Satellite 4580 N. University Drive Lauderhill FL 33351 United States;X-APPLE-RADIUS=500;X-TITLE=4580 N. University Drive:geo:-80.2509514,26.1823829
END:VEVENT
BEGIN:VEVENT
DTSTART;TZID=America/New_York:20270705T190000
DTEND;TZID=America/New_York:20270705T220000
DTSTAMP:20260421T063657
CREATED:20251230T202706Z
LAST-MODIFIED:20251230T203748Z
UID:10003946-1814814000-1814824800@tatesgaming.com
SUMMARY:Gundam TCG
DESCRIPTION:Gundam pilots! Join us every Monday to put your skills to the test on the field of battle! \nWhen: Mondays\nTime: 7:00 pm\nEntry: $10.00\nFormat: Constructed
URL:https://tatesgaming.com/event/gundam-tcg/2027-07-05/
LOCATION:TATE’S Gaming Satellite\, 4580 N. University Drive\, Lauderhill\, FL\, 33351\, United States
CATEGORIES:Gundam TCG
ATTACH;FMTTYPE=image/png:https://tatesgaming.com/wp-content/uploads/2025/12/gundam-event.png
GEO:26.1823829;-80.2509514
X-APPLE-STRUCTURED-LOCATION;VALUE=URI;X-ADDRESS=TATE’S Gaming Satellite 4580 N. University Drive Lauderhill FL 33351 United States;X-APPLE-RADIUS=500;X-TITLE=4580 N. University Drive:geo:-80.2509514,26.1823829
END:VEVENT
BEGIN:VEVENT
DTSTART;TZID=America/New_York:20270712T190000
DTEND;TZID=America/New_York:20270712T220000
DTSTAMP:20260421T063657
CREATED:20251230T202706Z
LAST-MODIFIED:20251230T203748Z
UID:10003947-1815418800-1815429600@tatesgaming.com
SUMMARY:Gundam TCG
DESCRIPTION:Gundam pilots! Join us every Monday to put your skills to the test on the field of battle! \nWhen: Mondays\nTime: 7:00 pm\nEntry: $10.00\nFormat: Constructed
URL:https://tatesgaming.com/event/gundam-tcg/2027-07-12/
LOCATION:TATE’S Gaming Satellite\, 4580 N. University Drive\, Lauderhill\, FL\, 33351\, United States
CATEGORIES:Gundam TCG
ATTACH;FMTTYPE=image/png:https://tatesgaming.com/wp-content/uploads/2025/12/gundam-event.png
GEO:26.1823829;-80.2509514
X-APPLE-STRUCTURED-LOCATION;VALUE=URI;X-ADDRESS=TATE’S Gaming Satellite 4580 N. University Drive Lauderhill FL 33351 United States;X-APPLE-RADIUS=500;X-TITLE=4580 N. University Drive:geo:-80.2509514,26.1823829
END:VEVENT
BEGIN:VEVENT
DTSTART;TZID=America/New_York:20270719T190000
DTEND;TZID=America/New_York:20270719T220000
DTSTAMP:20260421T063657
CREATED:20251230T202706Z
LAST-MODIFIED:20251230T203748Z
UID:10003948-1816023600-1816034400@tatesgaming.com
SUMMARY:Gundam TCG
DESCRIPTION:Gundam pilots! Join us every Monday to put your skills to the test on the field of battle! \nWhen: Mondays\nTime: 7:00 pm\nEntry: $10.00\nFormat: Constructed
URL:https://tatesgaming.com/event/gundam-tcg/2027-07-19/
LOCATION:TATE’S Gaming Satellite\, 4580 N. University Drive\, Lauderhill\, FL\, 33351\, United States
CATEGORIES:Gundam TCG
ATTACH;FMTTYPE=image/png:https://tatesgaming.com/wp-content/uploads/2025/12/gundam-event.png
GEO:26.1823829;-80.2509514
X-APPLE-STRUCTURED-LOCATION;VALUE=URI;X-ADDRESS=TATE’S Gaming Satellite 4580 N. University Drive Lauderhill FL 33351 United States;X-APPLE-RADIUS=500;X-TITLE=4580 N. University Drive:geo:-80.2509514,26.1823829
END:VEVENT
BEGIN:VEVENT
DTSTART;TZID=America/New_York:20270726T190000
DTEND;TZID=America/New_York:20270726T220000
DTSTAMP:20260421T063657
CREATED:20251230T202706Z
LAST-MODIFIED:20251230T203748Z
UID:10003949-1816628400-1816639200@tatesgaming.com
SUMMARY:Gundam TCG
DESCRIPTION:Gundam pilots! Join us every Monday to put your skills to the test on the field of battle! \nWhen: Mondays\nTime: 7:00 pm\nEntry: $10.00\nFormat: Constructed
URL:https://tatesgaming.com/event/gundam-tcg/2027-07-26/
LOCATION:TATE’S Gaming Satellite\, 4580 N. University Drive\, Lauderhill\, FL\, 33351\, United States
CATEGORIES:Gundam TCG
ATTACH;FMTTYPE=image/png:https://tatesgaming.com/wp-content/uploads/2025/12/gundam-event.png
GEO:26.1823829;-80.2509514
X-APPLE-STRUCTURED-LOCATION;VALUE=URI;X-ADDRESS=TATE’S Gaming Satellite 4580 N. University Drive Lauderhill FL 33351 United States;X-APPLE-RADIUS=500;X-TITLE=4580 N. University Drive:geo:-80.2509514,26.1823829
END:VEVENT
BEGIN:VEVENT
DTSTART;TZID=America/New_York:20270802T190000
DTEND;TZID=America/New_York:20270802T220000
DTSTAMP:20260421T063657
CREATED:20251230T202706Z
LAST-MODIFIED:20251230T203748Z
UID:10003950-1817233200-1817244000@tatesgaming.com
SUMMARY:Gundam TCG
DESCRIPTION:Gundam pilots! Join us every Monday to put your skills to the test on the field of battle! \nWhen: Mondays\nTime: 7:00 pm\nEntry: $10.00\nFormat: Constructed
URL:https://tatesgaming.com/event/gundam-tcg/2027-08-02/
LOCATION:TATE’S Gaming Satellite\, 4580 N. University Drive\, Lauderhill\, FL\, 33351\, United States
CATEGORIES:Gundam TCG
ATTACH;FMTTYPE=image/png:https://tatesgaming.com/wp-content/uploads/2025/12/gundam-event.png
GEO:26.1823829;-80.2509514
X-APPLE-STRUCTURED-LOCATION;VALUE=URI;X-ADDRESS=TATE’S Gaming Satellite 4580 N. University Drive Lauderhill FL 33351 United States;X-APPLE-RADIUS=500;X-TITLE=4580 N. University Drive:geo:-80.2509514,26.1823829
END:VEVENT
BEGIN:VEVENT
DTSTART;TZID=America/New_York:20270809T190000
DTEND;TZID=America/New_York:20270809T220000
DTSTAMP:20260421T063657
CREATED:20251230T202706Z
LAST-MODIFIED:20251230T203748Z
UID:10003951-1817838000-1817848800@tatesgaming.com
SUMMARY:Gundam TCG
DESCRIPTION:Gundam pilots! Join us every Monday to put your skills to the test on the field of battle! \nWhen: Mondays\nTime: 7:00 pm\nEntry: $10.00\nFormat: Constructed
URL:https://tatesgaming.com/event/gundam-tcg/2027-08-09/
LOCATION:TATE’S Gaming Satellite\, 4580 N. University Drive\, Lauderhill\, FL\, 33351\, United States
CATEGORIES:Gundam TCG
ATTACH;FMTTYPE=image/png:https://tatesgaming.com/wp-content/uploads/2025/12/gundam-event.png
GEO:26.1823829;-80.2509514
X-APPLE-STRUCTURED-LOCATION;VALUE=URI;X-ADDRESS=TATE’S Gaming Satellite 4580 N. University Drive Lauderhill FL 33351 United States;X-APPLE-RADIUS=500;X-TITLE=4580 N. University Drive:geo:-80.2509514,26.1823829
END:VEVENT
BEGIN:VEVENT
DTSTART;TZID=America/New_York:20270816T190000
DTEND;TZID=America/New_York:20270816T220000
DTSTAMP:20260421T063657
CREATED:20251230T202706Z
LAST-MODIFIED:20251230T203748Z
UID:10003952-1818442800-1818453600@tatesgaming.com
SUMMARY:Gundam TCG
DESCRIPTION:Gundam pilots! Join us every Monday to put your skills to the test on the field of battle! \nWhen: Mondays\nTime: 7:00 pm\nEntry: $10.00\nFormat: Constructed
URL:https://tatesgaming.com/event/gundam-tcg/2027-08-16/
LOCATION:TATE’S Gaming Satellite\, 4580 N. University Drive\, Lauderhill\, FL\, 33351\, United States
CATEGORIES:Gundam TCG
ATTACH;FMTTYPE=image/png:https://tatesgaming.com/wp-content/uploads/2025/12/gundam-event.png
GEO:26.1823829;-80.2509514
X-APPLE-STRUCTURED-LOCATION;VALUE=URI;X-ADDRESS=TATE’S Gaming Satellite 4580 N. University Drive Lauderhill FL 33351 United States;X-APPLE-RADIUS=500;X-TITLE=4580 N. University Drive:geo:-80.2509514,26.1823829
END:VEVENT
BEGIN:VEVENT
DTSTART;TZID=America/New_York:20270823T190000
DTEND;TZID=America/New_York:20270823T220000
DTSTAMP:20260421T063657
CREATED:20251230T202706Z
LAST-MODIFIED:20251230T203748Z
UID:10003953-1819047600-1819058400@tatesgaming.com
SUMMARY:Gundam TCG
DESCRIPTION:Gundam pilots! Join us every Monday to put your skills to the test on the field of battle! \nWhen: Mondays\nTime: 7:00 pm\nEntry: $10.00\nFormat: Constructed
URL:https://tatesgaming.com/event/gundam-tcg/2027-08-23/
LOCATION:TATE’S Gaming Satellite\, 4580 N. University Drive\, Lauderhill\, FL\, 33351\, United States
CATEGORIES:Gundam TCG
ATTACH;FMTTYPE=image/png:https://tatesgaming.com/wp-content/uploads/2025/12/gundam-event.png
GEO:26.1823829;-80.2509514
X-APPLE-STRUCTURED-LOCATION;VALUE=URI;X-ADDRESS=TATE’S Gaming Satellite 4580 N. University Drive Lauderhill FL 33351 United States;X-APPLE-RADIUS=500;X-TITLE=4580 N. University Drive:geo:-80.2509514,26.1823829
END:VEVENT
BEGIN:VEVENT
DTSTART;TZID=America/New_York:20270830T190000
DTEND;TZID=America/New_York:20270830T220000
DTSTAMP:20260421T063657
CREATED:20251230T202706Z
LAST-MODIFIED:20251230T203748Z
UID:10003954-1819652400-1819663200@tatesgaming.com
SUMMARY:Gundam TCG
DESCRIPTION:Gundam pilots! Join us every Monday to put your skills to the test on the field of battle! \nWhen: Mondays\nTime: 7:00 pm\nEntry: $10.00\nFormat: Constructed
URL:https://tatesgaming.com/event/gundam-tcg/2027-08-30/
LOCATION:TATE’S Gaming Satellite\, 4580 N. University Drive\, Lauderhill\, FL\, 33351\, United States
CATEGORIES:Gundam TCG
ATTACH;FMTTYPE=image/png:https://tatesgaming.com/wp-content/uploads/2025/12/gundam-event.png
GEO:26.1823829;-80.2509514
X-APPLE-STRUCTURED-LOCATION;VALUE=URI;X-ADDRESS=TATE’S Gaming Satellite 4580 N. University Drive Lauderhill FL 33351 United States;X-APPLE-RADIUS=500;X-TITLE=4580 N. University Drive:geo:-80.2509514,26.1823829
END:VEVENT
BEGIN:VEVENT
DTSTART;TZID=America/New_York:20270906T190000
DTEND;TZID=America/New_York:20270906T220000
DTSTAMP:20260421T063657
CREATED:20251230T202706Z
LAST-MODIFIED:20251230T203748Z
UID:10003955-1820257200-1820268000@tatesgaming.com
SUMMARY:Gundam TCG
DESCRIPTION:Gundam pilots! Join us every Monday to put your skills to the test on the field of battle! \nWhen: Mondays\nTime: 7:00 pm\nEntry: $10.00\nFormat: Constructed
URL:https://tatesgaming.com/event/gundam-tcg/2027-09-06/
LOCATION:TATE’S Gaming Satellite\, 4580 N. University Drive\, Lauderhill\, FL\, 33351\, United States
CATEGORIES:Gundam TCG
ATTACH;FMTTYPE=image/png:https://tatesgaming.com/wp-content/uploads/2025/12/gundam-event.png
GEO:26.1823829;-80.2509514
X-APPLE-STRUCTURED-LOCATION;VALUE=URI;X-ADDRESS=TATE’S Gaming Satellite 4580 N. University Drive Lauderhill FL 33351 United States;X-APPLE-RADIUS=500;X-TITLE=4580 N. University Drive:geo:-80.2509514,26.1823829
END:VEVENT
BEGIN:VEVENT
DTSTART;TZID=America/New_York:20270913T190000
DTEND;TZID=America/New_York:20270913T220000
DTSTAMP:20260421T063657
CREATED:20251230T202706Z
LAST-MODIFIED:20251230T203748Z
UID:10003956-1820862000-1820872800@tatesgaming.com
SUMMARY:Gundam TCG
DESCRIPTION:Gundam pilots! Join us every Monday to put your skills to the test on the field of battle! \nWhen: Mondays\nTime: 7:00 pm\nEntry: $10.00\nFormat: Constructed
URL:https://tatesgaming.com/event/gundam-tcg/2027-09-13/
LOCATION:TATE’S Gaming Satellite\, 4580 N. University Drive\, Lauderhill\, FL\, 33351\, United States
CATEGORIES:Gundam TCG
ATTACH;FMTTYPE=image/png:https://tatesgaming.com/wp-content/uploads/2025/12/gundam-event.png
GEO:26.1823829;-80.2509514
X-APPLE-STRUCTURED-LOCATION;VALUE=URI;X-ADDRESS=TATE’S Gaming Satellite 4580 N. University Drive Lauderhill FL 33351 United States;X-APPLE-RADIUS=500;X-TITLE=4580 N. University Drive:geo:-80.2509514,26.1823829
END:VEVENT
BEGIN:VEVENT
DTSTART;TZID=America/New_York:20270920T190000
DTEND;TZID=America/New_York:20270920T220000
DTSTAMP:20260421T063657
CREATED:20251230T202706Z
LAST-MODIFIED:20251230T203748Z
UID:10003957-1821466800-1821477600@tatesgaming.com
SUMMARY:Gundam TCG
DESCRIPTION:Gundam pilots! Join us every Monday to put your skills to the test on the field of battle! \nWhen: Mondays\nTime: 7:00 pm\nEntry: $10.00\nFormat: Constructed
URL:https://tatesgaming.com/event/gundam-tcg/2027-09-20/
LOCATION:TATE’S Gaming Satellite\, 4580 N. University Drive\, Lauderhill\, FL\, 33351\, United States
CATEGORIES:Gundam TCG
ATTACH;FMTTYPE=image/png:https://tatesgaming.com/wp-content/uploads/2025/12/gundam-event.png
GEO:26.1823829;-80.2509514
X-APPLE-STRUCTURED-LOCATION;VALUE=URI;X-ADDRESS=TATE’S Gaming Satellite 4580 N. University Drive Lauderhill FL 33351 United States;X-APPLE-RADIUS=500;X-TITLE=4580 N. University Drive:geo:-80.2509514,26.1823829
END:VEVENT
BEGIN:VEVENT
DTSTART;TZID=America/New_York:20270927T190000
DTEND;TZID=America/New_York:20270927T220000
DTSTAMP:20260421T063657
CREATED:20251230T202706Z
LAST-MODIFIED:20251230T203748Z
UID:10003958-1822071600-1822082400@tatesgaming.com
SUMMARY:Gundam TCG
DESCRIPTION:Gundam pilots! Join us every Monday to put your skills to the test on the field of battle! \nWhen: Mondays\nTime: 7:00 pm\nEntry: $10.00\nFormat: Constructed
URL:https://tatesgaming.com/event/gundam-tcg/2027-09-27/
LOCATION:TATE’S Gaming Satellite\, 4580 N. University Drive\, Lauderhill\, FL\, 33351\, United States
CATEGORIES:Gundam TCG
ATTACH;FMTTYPE=image/png:https://tatesgaming.com/wp-content/uploads/2025/12/gundam-event.png
GEO:26.1823829;-80.2509514
X-APPLE-STRUCTURED-LOCATION;VALUE=URI;X-ADDRESS=TATE’S Gaming Satellite 4580 N. University Drive Lauderhill FL 33351 United States;X-APPLE-RADIUS=500;X-TITLE=4580 N. University Drive:geo:-80.2509514,26.1823829
END:VEVENT
BEGIN:VEVENT
DTSTART;TZID=America/New_York:20271004T190000
DTEND;TZID=America/New_York:20271004T220000
DTSTAMP:20260421T063657
CREATED:20251230T202706Z
LAST-MODIFIED:20251230T203748Z
UID:10003959-1822676400-1822687200@tatesgaming.com
SUMMARY:Gundam TCG
DESCRIPTION:Gundam pilots! Join us every Monday to put your skills to the test on the field of battle! \nWhen: Mondays\nTime: 7:00 pm\nEntry: $10.00\nFormat: Constructed
URL:https://tatesgaming.com/event/gundam-tcg/2027-10-04/
LOCATION:TATE’S Gaming Satellite\, 4580 N. University Drive\, Lauderhill\, FL\, 33351\, United States
CATEGORIES:Gundam TCG
ATTACH;FMTTYPE=image/png:https://tatesgaming.com/wp-content/uploads/2025/12/gundam-event.png
GEO:26.1823829;-80.2509514
X-APPLE-STRUCTURED-LOCATION;VALUE=URI;X-ADDRESS=TATE’S Gaming Satellite 4580 N. University Drive Lauderhill FL 33351 United States;X-APPLE-RADIUS=500;X-TITLE=4580 N. University Drive:geo:-80.2509514,26.1823829
END:VEVENT
BEGIN:VEVENT
DTSTART;TZID=America/New_York:20271011T190000
DTEND;TZID=America/New_York:20271011T220000
DTSTAMP:20260421T063657
CREATED:20251230T202706Z
LAST-MODIFIED:20251230T203748Z
UID:10003960-1823281200-1823292000@tatesgaming.com
SUMMARY:Gundam TCG
DESCRIPTION:Gundam pilots! Join us every Monday to put your skills to the test on the field of battle! \nWhen: Mondays\nTime: 7:00 pm\nEntry: $10.00\nFormat: Constructed
URL:https://tatesgaming.com/event/gundam-tcg/2027-10-11/
LOCATION:TATE’S Gaming Satellite\, 4580 N. University Drive\, Lauderhill\, FL\, 33351\, United States
CATEGORIES:Gundam TCG
ATTACH;FMTTYPE=image/png:https://tatesgaming.com/wp-content/uploads/2025/12/gundam-event.png
GEO:26.1823829;-80.2509514
X-APPLE-STRUCTURED-LOCATION;VALUE=URI;X-ADDRESS=TATE’S Gaming Satellite 4580 N. University Drive Lauderhill FL 33351 United States;X-APPLE-RADIUS=500;X-TITLE=4580 N. University Drive:geo:-80.2509514,26.1823829
END:VEVENT
BEGIN:VEVENT
DTSTART;TZID=America/New_York:20271018T190000
DTEND;TZID=America/New_York:20271018T220000
DTSTAMP:20260421T063657
CREATED:20251230T202706Z
LAST-MODIFIED:20251230T203748Z
UID:10003961-1823886000-1823896800@tatesgaming.com
SUMMARY:Gundam TCG
DESCRIPTION:Gundam pilots! Join us every Monday to put your skills to the test on the field of battle! \nWhen: Mondays\nTime: 7:00 pm\nEntry: $10.00\nFormat: Constructed
URL:https://tatesgaming.com/event/gundam-tcg/2027-10-18/
LOCATION:TATE’S Gaming Satellite\, 4580 N. University Drive\, Lauderhill\, FL\, 33351\, United States
CATEGORIES:Gundam TCG
ATTACH;FMTTYPE=image/png:https://tatesgaming.com/wp-content/uploads/2025/12/gundam-event.png
GEO:26.1823829;-80.2509514
X-APPLE-STRUCTURED-LOCATION;VALUE=URI;X-ADDRESS=TATE’S Gaming Satellite 4580 N. University Drive Lauderhill FL 33351 United States;X-APPLE-RADIUS=500;X-TITLE=4580 N. University Drive:geo:-80.2509514,26.1823829
END:VEVENT
BEGIN:VEVENT
DTSTART;TZID=America/New_York:20271025T190000
DTEND;TZID=America/New_York:20271025T220000
DTSTAMP:20260421T063657
CREATED:20251230T202706Z
LAST-MODIFIED:20251230T203748Z
UID:10003962-1824490800-1824501600@tatesgaming.com
SUMMARY:Gundam TCG
DESCRIPTION:Gundam pilots! Join us every Monday to put your skills to the test on the field of battle! \nWhen: Mondays\nTime: 7:00 pm\nEntry: $10.00\nFormat: Constructed
URL:https://tatesgaming.com/event/gundam-tcg/2027-10-25/
LOCATION:TATE’S Gaming Satellite\, 4580 N. University Drive\, Lauderhill\, FL\, 33351\, United States
CATEGORIES:Gundam TCG
ATTACH;FMTTYPE=image/png:https://tatesgaming.com/wp-content/uploads/2025/12/gundam-event.png
GEO:26.1823829;-80.2509514
X-APPLE-STRUCTURED-LOCATION;VALUE=URI;X-ADDRESS=TATE’S Gaming Satellite 4580 N. University Drive Lauderhill FL 33351 United States;X-APPLE-RADIUS=500;X-TITLE=4580 N. University Drive:geo:-80.2509514,26.1823829
END:VEVENT
BEGIN:VEVENT
DTSTART;TZID=America/New_York:20271101T190000
DTEND;TZID=America/New_York:20271101T220000
DTSTAMP:20260421T063657
CREATED:20251230T202706Z
LAST-MODIFIED:20251230T203748Z
UID:10003963-1825095600-1825106400@tatesgaming.com
SUMMARY:Gundam TCG
DESCRIPTION:Gundam pilots! Join us every Monday to put your skills to the test on the field of battle! \nWhen: Mondays\nTime: 7:00 pm\nEntry: $10.00\nFormat: Constructed
URL:https://tatesgaming.com/event/gundam-tcg/2027-11-01/
LOCATION:TATE’S Gaming Satellite\, 4580 N. University Drive\, Lauderhill\, FL\, 33351\, United States
CATEGORIES:Gundam TCG
ATTACH;FMTTYPE=image/png:https://tatesgaming.com/wp-content/uploads/2025/12/gundam-event.png
GEO:26.1823829;-80.2509514
X-APPLE-STRUCTURED-LOCATION;VALUE=URI;X-ADDRESS=TATE’S Gaming Satellite 4580 N. University Drive Lauderhill FL 33351 United States;X-APPLE-RADIUS=500;X-TITLE=4580 N. University Drive:geo:-80.2509514,26.1823829
END:VEVENT
END:VCALENDAR