BEGIN:VCALENDAR
VERSION:2.0
PRODID:-//Tate&#039;s Gaming Satellite - ECPv6.15.20//NONSGML v1.0//EN
CALSCALE:GREGORIAN
METHOD:PUBLISH
X-ORIGINAL-URL:https://tatesgaming.com
X-WR-CALDESC:Events for Tate&#039;s Gaming Satellite
REFRESH-INTERVAL;VALUE=DURATION:PT1H
X-Robots-Tag:noindex
X-PUBLISHED-TTL:PT1H
BEGIN:VTIMEZONE
TZID:America/New_York
BEGIN:DAYLIGHT
TZOFFSETFROM:-0500
TZOFFSETTO:-0400
TZNAME:EDT
DTSTART:20190310T070000
END:DAYLIGHT
BEGIN:STANDARD
TZOFFSETFROM:-0400
TZOFFSETTO:-0500
TZNAME:EST
DTSTART:20191103T060000
END:STANDARD
BEGIN:DAYLIGHT
TZOFFSETFROM:-0500
TZOFFSETTO:-0400
TZNAME:EDT
DTSTART:20200308T070000
END:DAYLIGHT
BEGIN:STANDARD
TZOFFSETFROM:-0400
TZOFFSETTO:-0500
TZNAME:EST
DTSTART:20201101T060000
END:STANDARD
BEGIN:DAYLIGHT
TZOFFSETFROM:-0500
TZOFFSETTO:-0400
TZNAME:EDT
DTSTART:20210314T070000
END:DAYLIGHT
BEGIN:STANDARD
TZOFFSETFROM:-0400
TZOFFSETTO:-0500
TZNAME:EST
DTSTART:20211107T060000
END:STANDARD
END:VTIMEZONE
BEGIN:VEVENT
DTSTART;TZID=America/New_York:20200118T120000
DTEND;TZID=America/New_York:20200118T170000
DTSTAMP:20260423T171741
CREATED:20191226T115209Z
LAST-MODIFIED:20191226T115210Z
UID:10000684-1579348800-1579366800@tatesgaming.com
SUMMARY:MTG Prerelease - Theros Beyond Death
DESCRIPTION:Join us for our Theros Beyond Death Prerelease! This is a Sealed tournament for every player – experienced and new – to come and get their hands on the upcoming set\, Theros Beyond Death\, one week before it officially releases in stores! \nPlayers will receive six booster packs in their Prerelease kit\, and they’ll construct a deck of minimum 40 cards to battle it out with their newly formed deck in a four round tournament for glory and prizes! (We’ll provide the basic lands.) \nHere are the details of this epic event: \n• Dates: Saturday and Sunday\, January 18th and 19th\, 2020.\n• Times: Registration ends at 11:50 am\, and the tournament starts at 12:00 noon on both days.\n• Entry: $25.00.\n• Swiss. Four rounds. No playoff cut.\n• Prize support will be issued based on the number of wins a player gets during the four rounds of Swiss: \n4 Wins: 10 Theros Beyond Death Packs OR $40 in Store Credit\n3 Wins: 7 Theros Beyond Death Packs OR $28 in Store Credit\n2 Wins: 4 Theros Beyond Death Packs OR $16 in Store Credit\n1 Win: 2 Theros Beyond Death Packs OR $8 in Store Credit
URL:https://tatesgaming.com/event/mtg-prerelease-theros-beyond-death/2020-01-18/
LOCATION:TATE’S Gaming Satellite\, 4580 N. University Drive\, Lauderhill\, FL\, 33351\, United States
CATEGORIES:Magic the Gathering,Slider Feature
ATTACH;FMTTYPE=image/jpeg:https://tatesgaming.com/wp-content/uploads/2019/12/Theros-Beyond-Death-Website-Banner.jpg
GEO:26.1823829;-80.2509514
X-APPLE-STRUCTURED-LOCATION;VALUE=URI;X-ADDRESS=TATE’S Gaming Satellite 4580 N. University Drive Lauderhill FL 33351 United States;X-APPLE-RADIUS=500;X-TITLE=4580 N. University Drive:geo:-80.2509514,26.1823829
END:VEVENT
BEGIN:VEVENT
DTSTART;TZID=America/New_York:20200119T120000
DTEND;TZID=America/New_York:20200119T170000
DTSTAMP:20260423T171741
CREATED:20191226T115209Z
LAST-MODIFIED:20191226T115210Z
UID:10000685-1579435200-1579453200@tatesgaming.com
SUMMARY:MTG Prerelease - Theros Beyond Death
DESCRIPTION:Join us for our Theros Beyond Death Prerelease! This is a Sealed tournament for every player – experienced and new – to come and get their hands on the upcoming set\, Theros Beyond Death\, one week before it officially releases in stores! \nPlayers will receive six booster packs in their Prerelease kit\, and they’ll construct a deck of minimum 40 cards to battle it out with their newly formed deck in a four round tournament for glory and prizes! (We’ll provide the basic lands.) \nHere are the details of this epic event: \n• Dates: Saturday and Sunday\, January 18th and 19th\, 2020.\n• Times: Registration ends at 11:50 am\, and the tournament starts at 12:00 noon on both days.\n• Entry: $25.00.\n• Swiss. Four rounds. No playoff cut.\n• Prize support will be issued based on the number of wins a player gets during the four rounds of Swiss: \n4 Wins: 10 Theros Beyond Death Packs OR $40 in Store Credit\n3 Wins: 7 Theros Beyond Death Packs OR $28 in Store Credit\n2 Wins: 4 Theros Beyond Death Packs OR $16 in Store Credit\n1 Win: 2 Theros Beyond Death Packs OR $8 in Store Credit
URL:https://tatesgaming.com/event/mtg-prerelease-theros-beyond-death/2020-01-19/
LOCATION:TATE’S Gaming Satellite\, 4580 N. University Drive\, Lauderhill\, FL\, 33351\, United States
CATEGORIES:Magic the Gathering,Slider Feature
ATTACH;FMTTYPE=image/jpeg:https://tatesgaming.com/wp-content/uploads/2019/12/Theros-Beyond-Death-Website-Banner.jpg
GEO:26.1823829;-80.2509514
X-APPLE-STRUCTURED-LOCATION;VALUE=URI;X-ADDRESS=TATE’S Gaming Satellite 4580 N. University Drive Lauderhill FL 33351 United States;X-APPLE-RADIUS=500;X-TITLE=4580 N. University Drive:geo:-80.2509514,26.1823829
END:VEVENT
END:VCALENDAR