BEGIN:VCALENDAR
VERSION:2.0
PRODID:-//Tate&#039;s Gaming Satellite - ECPv6.15.20//NONSGML v1.0//EN
CALSCALE:GREGORIAN
METHOD:PUBLISH
X-ORIGINAL-URL:https://tatesgaming.com
X-WR-CALDESC:Events for Tate&#039;s Gaming Satellite
REFRESH-INTERVAL;VALUE=DURATION:PT1H
X-Robots-Tag:noindex
X-PUBLISHED-TTL:PT1H
BEGIN:VTIMEZONE
TZID:America/New_York
BEGIN:DAYLIGHT
TZOFFSETFROM:-0500
TZOFFSETTO:-0400
TZNAME:EDT
DTSTART:20190310T070000
END:DAYLIGHT
BEGIN:STANDARD
TZOFFSETFROM:-0400
TZOFFSETTO:-0500
TZNAME:EST
DTSTART:20191103T060000
END:STANDARD
BEGIN:DAYLIGHT
TZOFFSETFROM:-0500
TZOFFSETTO:-0400
TZNAME:EDT
DTSTART:20200308T070000
END:DAYLIGHT
BEGIN:STANDARD
TZOFFSETFROM:-0400
TZOFFSETTO:-0500
TZNAME:EST
DTSTART:20201101T060000
END:STANDARD
BEGIN:DAYLIGHT
TZOFFSETFROM:-0500
TZOFFSETTO:-0400
TZNAME:EDT
DTSTART:20210314T070000
END:DAYLIGHT
BEGIN:STANDARD
TZOFFSETFROM:-0400
TZOFFSETTO:-0500
TZNAME:EST
DTSTART:20211107T060000
END:STANDARD
END:VTIMEZONE
BEGIN:VEVENT
DTSTART;TZID=America/New_York:20200918T110000
DTEND;TZID=America/New_York:20200918T190000
DTSTAMP:20260423T042244
CREATED:20200904T210006Z
LAST-MODIFIED:20200917T175533Z
UID:10000687-1600426800-1600455600@tatesgaming.com
SUMMARY:MTG Zendikar Rising - Take-Home Prerelease
DESCRIPTION:Magic players\, Zendikar Rising is upon us! Here are the details for our Zendikar Rising Take-Home Prerelease: \n• Dates: Friday\, September 18th – Thursday\, September 24th\n• Start Time: 11am\n• Entry: $25\n• Prize Support: Each Prerelease Kit comes with 2 additional Draft Booster packs of Zendikar Rising. The first 90 kits will also receive 1 Set Booster pack! \n• Early Sale Promotion: Draft Booster boxes will be available for purchase during the length of the Prerelease!
URL:https://tatesgaming.com/event/mtg-zendikar-rising-take-home-prerelease/2020-09-18/
LOCATION:TATE’S Gaming Satellite\, 4580 N. University Drive\, Lauderhill\, FL\, 33351\, United States
CATEGORIES:Magic the Gathering,Slider Feature
ATTACH;FMTTYPE=image/jpeg:https://tatesgaming.com/wp-content/uploads/2020/09/Zendikar-Rising-Prerelease-Website-Slider.jpg
GEO:26.1823829;-80.2509514
X-APPLE-STRUCTURED-LOCATION;VALUE=URI;X-ADDRESS=TATE’S Gaming Satellite 4580 N. University Drive Lauderhill FL 33351 United States;X-APPLE-RADIUS=500;X-TITLE=4580 N. University Drive:geo:-80.2509514,26.1823829
END:VEVENT
BEGIN:VEVENT
DTSTART;TZID=America/New_York:20200919T110000
DTEND;TZID=America/New_York:20200919T190000
DTSTAMP:20260423T042244
CREATED:20200904T210006Z
LAST-MODIFIED:20200917T175533Z
UID:10000688-1600513200-1600542000@tatesgaming.com
SUMMARY:MTG Zendikar Rising - Take-Home Prerelease
DESCRIPTION:Magic players\, Zendikar Rising is upon us! Here are the details for our Zendikar Rising Take-Home Prerelease: \n• Dates: Friday\, September 18th – Thursday\, September 24th\n• Start Time: 11am\n• Entry: $25\n• Prize Support: Each Prerelease Kit comes with 2 additional Draft Booster packs of Zendikar Rising. The first 90 kits will also receive 1 Set Booster pack! \n• Early Sale Promotion: Draft Booster boxes will be available for purchase during the length of the Prerelease!
URL:https://tatesgaming.com/event/mtg-zendikar-rising-take-home-prerelease/2020-09-19/
LOCATION:TATE’S Gaming Satellite\, 4580 N. University Drive\, Lauderhill\, FL\, 33351\, United States
CATEGORIES:Magic the Gathering,Slider Feature
ATTACH;FMTTYPE=image/jpeg:https://tatesgaming.com/wp-content/uploads/2020/09/Zendikar-Rising-Prerelease-Website-Slider.jpg
GEO:26.1823829;-80.2509514
X-APPLE-STRUCTURED-LOCATION;VALUE=URI;X-ADDRESS=TATE’S Gaming Satellite 4580 N. University Drive Lauderhill FL 33351 United States;X-APPLE-RADIUS=500;X-TITLE=4580 N. University Drive:geo:-80.2509514,26.1823829
END:VEVENT
BEGIN:VEVENT
DTSTART;TZID=America/New_York:20200920T110000
DTEND;TZID=America/New_York:20200920T190000
DTSTAMP:20260423T042244
CREATED:20200904T210006Z
LAST-MODIFIED:20200917T175533Z
UID:10000689-1600599600-1600628400@tatesgaming.com
SUMMARY:MTG Zendikar Rising - Take-Home Prerelease
DESCRIPTION:Magic players\, Zendikar Rising is upon us! Here are the details for our Zendikar Rising Take-Home Prerelease: \n• Dates: Friday\, September 18th – Thursday\, September 24th\n• Start Time: 11am\n• Entry: $25\n• Prize Support: Each Prerelease Kit comes with 2 additional Draft Booster packs of Zendikar Rising. The first 90 kits will also receive 1 Set Booster pack! \n• Early Sale Promotion: Draft Booster boxes will be available for purchase during the length of the Prerelease!
URL:https://tatesgaming.com/event/mtg-zendikar-rising-take-home-prerelease/2020-09-20/
LOCATION:TATE’S Gaming Satellite\, 4580 N. University Drive\, Lauderhill\, FL\, 33351\, United States
CATEGORIES:Magic the Gathering,Slider Feature
ATTACH;FMTTYPE=image/jpeg:https://tatesgaming.com/wp-content/uploads/2020/09/Zendikar-Rising-Prerelease-Website-Slider.jpg
GEO:26.1823829;-80.2509514
X-APPLE-STRUCTURED-LOCATION;VALUE=URI;X-ADDRESS=TATE’S Gaming Satellite 4580 N. University Drive Lauderhill FL 33351 United States;X-APPLE-RADIUS=500;X-TITLE=4580 N. University Drive:geo:-80.2509514,26.1823829
END:VEVENT
BEGIN:VEVENT
DTSTART;TZID=America/New_York:20200921T110000
DTEND;TZID=America/New_York:20200921T190000
DTSTAMP:20260423T042244
CREATED:20200904T210006Z
LAST-MODIFIED:20200917T175533Z
UID:10000690-1600686000-1600714800@tatesgaming.com
SUMMARY:MTG Zendikar Rising - Take-Home Prerelease
DESCRIPTION:Magic players\, Zendikar Rising is upon us! Here are the details for our Zendikar Rising Take-Home Prerelease: \n• Dates: Friday\, September 18th – Thursday\, September 24th\n• Start Time: 11am\n• Entry: $25\n• Prize Support: Each Prerelease Kit comes with 2 additional Draft Booster packs of Zendikar Rising. The first 90 kits will also receive 1 Set Booster pack! \n• Early Sale Promotion: Draft Booster boxes will be available for purchase during the length of the Prerelease!
URL:https://tatesgaming.com/event/mtg-zendikar-rising-take-home-prerelease/2020-09-21/
LOCATION:TATE’S Gaming Satellite\, 4580 N. University Drive\, Lauderhill\, FL\, 33351\, United States
CATEGORIES:Magic the Gathering,Slider Feature
ATTACH;FMTTYPE=image/jpeg:https://tatesgaming.com/wp-content/uploads/2020/09/Zendikar-Rising-Prerelease-Website-Slider.jpg
GEO:26.1823829;-80.2509514
X-APPLE-STRUCTURED-LOCATION;VALUE=URI;X-ADDRESS=TATE’S Gaming Satellite 4580 N. University Drive Lauderhill FL 33351 United States;X-APPLE-RADIUS=500;X-TITLE=4580 N. University Drive:geo:-80.2509514,26.1823829
END:VEVENT
BEGIN:VEVENT
DTSTART;TZID=America/New_York:20200922T110000
DTEND;TZID=America/New_York:20200922T190000
DTSTAMP:20260423T042244
CREATED:20200904T210006Z
LAST-MODIFIED:20200917T175533Z
UID:10000691-1600772400-1600801200@tatesgaming.com
SUMMARY:MTG Zendikar Rising - Take-Home Prerelease
DESCRIPTION:Magic players\, Zendikar Rising is upon us! Here are the details for our Zendikar Rising Take-Home Prerelease: \n• Dates: Friday\, September 18th – Thursday\, September 24th\n• Start Time: 11am\n• Entry: $25\n• Prize Support: Each Prerelease Kit comes with 2 additional Draft Booster packs of Zendikar Rising. The first 90 kits will also receive 1 Set Booster pack! \n• Early Sale Promotion: Draft Booster boxes will be available for purchase during the length of the Prerelease!
URL:https://tatesgaming.com/event/mtg-zendikar-rising-take-home-prerelease/2020-09-22/
LOCATION:TATE’S Gaming Satellite\, 4580 N. University Drive\, Lauderhill\, FL\, 33351\, United States
CATEGORIES:Magic the Gathering,Slider Feature
ATTACH;FMTTYPE=image/jpeg:https://tatesgaming.com/wp-content/uploads/2020/09/Zendikar-Rising-Prerelease-Website-Slider.jpg
GEO:26.1823829;-80.2509514
X-APPLE-STRUCTURED-LOCATION;VALUE=URI;X-ADDRESS=TATE’S Gaming Satellite 4580 N. University Drive Lauderhill FL 33351 United States;X-APPLE-RADIUS=500;X-TITLE=4580 N. University Drive:geo:-80.2509514,26.1823829
END:VEVENT
BEGIN:VEVENT
DTSTART;TZID=America/New_York:20200923T110000
DTEND;TZID=America/New_York:20200923T190000
DTSTAMP:20260423T042244
CREATED:20200904T210006Z
LAST-MODIFIED:20200917T175533Z
UID:10000692-1600858800-1600887600@tatesgaming.com
SUMMARY:MTG Zendikar Rising - Take-Home Prerelease
DESCRIPTION:Magic players\, Zendikar Rising is upon us! Here are the details for our Zendikar Rising Take-Home Prerelease: \n• Dates: Friday\, September 18th – Thursday\, September 24th\n• Start Time: 11am\n• Entry: $25\n• Prize Support: Each Prerelease Kit comes with 2 additional Draft Booster packs of Zendikar Rising. The first 90 kits will also receive 1 Set Booster pack! \n• Early Sale Promotion: Draft Booster boxes will be available for purchase during the length of the Prerelease!
URL:https://tatesgaming.com/event/mtg-zendikar-rising-take-home-prerelease/2020-09-23/
LOCATION:TATE’S Gaming Satellite\, 4580 N. University Drive\, Lauderhill\, FL\, 33351\, United States
CATEGORIES:Magic the Gathering,Slider Feature
ATTACH;FMTTYPE=image/jpeg:https://tatesgaming.com/wp-content/uploads/2020/09/Zendikar-Rising-Prerelease-Website-Slider.jpg
GEO:26.1823829;-80.2509514
X-APPLE-STRUCTURED-LOCATION;VALUE=URI;X-ADDRESS=TATE’S Gaming Satellite 4580 N. University Drive Lauderhill FL 33351 United States;X-APPLE-RADIUS=500;X-TITLE=4580 N. University Drive:geo:-80.2509514,26.1823829
END:VEVENT
BEGIN:VEVENT
DTSTART;TZID=America/New_York:20200924T110000
DTEND;TZID=America/New_York:20200924T190000
DTSTAMP:20260423T042244
CREATED:20200904T210006Z
LAST-MODIFIED:20200917T175533Z
UID:10000693-1600945200-1600974000@tatesgaming.com
SUMMARY:MTG Zendikar Rising - Take-Home Prerelease
DESCRIPTION:Magic players\, Zendikar Rising is upon us! Here are the details for our Zendikar Rising Take-Home Prerelease: \n• Dates: Friday\, September 18th – Thursday\, September 24th\n• Start Time: 11am\n• Entry: $25\n• Prize Support: Each Prerelease Kit comes with 2 additional Draft Booster packs of Zendikar Rising. The first 90 kits will also receive 1 Set Booster pack! \n• Early Sale Promotion: Draft Booster boxes will be available for purchase during the length of the Prerelease!
URL:https://tatesgaming.com/event/mtg-zendikar-rising-take-home-prerelease/2020-09-24/
LOCATION:TATE’S Gaming Satellite\, 4580 N. University Drive\, Lauderhill\, FL\, 33351\, United States
CATEGORIES:Magic the Gathering,Slider Feature
ATTACH;FMTTYPE=image/jpeg:https://tatesgaming.com/wp-content/uploads/2020/09/Zendikar-Rising-Prerelease-Website-Slider.jpg
GEO:26.1823829;-80.2509514
X-APPLE-STRUCTURED-LOCATION;VALUE=URI;X-ADDRESS=TATE’S Gaming Satellite 4580 N. University Drive Lauderhill FL 33351 United States;X-APPLE-RADIUS=500;X-TITLE=4580 N. University Drive:geo:-80.2509514,26.1823829
END:VEVENT
END:VCALENDAR