BEGIN:VCALENDAR
VERSION:2.0
PRODID:-//Tate&#039;s Gaming Satellite - ECPv6.15.20//NONSGML v1.0//EN
CALSCALE:GREGORIAN
METHOD:PUBLISH
X-ORIGINAL-URL:https://tatesgaming.com
X-WR-CALDESC:Events for Tate&#039;s Gaming Satellite
REFRESH-INTERVAL;VALUE=DURATION:PT1H
X-Robots-Tag:noindex
X-PUBLISHED-TTL:PT1H
BEGIN:VTIMEZONE
TZID:America/New_York
BEGIN:DAYLIGHT
TZOFFSETFROM:-0500
TZOFFSETTO:-0400
TZNAME:EDT
DTSTART:20200308T070000
END:DAYLIGHT
BEGIN:STANDARD
TZOFFSETFROM:-0400
TZOFFSETTO:-0500
TZNAME:EST
DTSTART:20201101T060000
END:STANDARD
BEGIN:DAYLIGHT
TZOFFSETFROM:-0500
TZOFFSETTO:-0400
TZNAME:EDT
DTSTART:20210314T070000
END:DAYLIGHT
BEGIN:STANDARD
TZOFFSETFROM:-0400
TZOFFSETTO:-0500
TZNAME:EST
DTSTART:20211107T060000
END:STANDARD
BEGIN:DAYLIGHT
TZOFFSETFROM:-0500
TZOFFSETTO:-0400
TZNAME:EDT
DTSTART:20220313T070000
END:DAYLIGHT
BEGIN:STANDARD
TZOFFSETFROM:-0400
TZOFFSETTO:-0500
TZNAME:EST
DTSTART:20221106T060000
END:STANDARD
END:VTIMEZONE
BEGIN:VEVENT
DTSTART;TZID=America/New_York:20210611T110000
DTEND;TZID=America/New_York:20210617T190000
DTSTAMP:20260424T100820
CREATED:20210524T225017Z
LAST-MODIFIED:20210524T225017Z
UID:10000816-1623409200-1623956400@tatesgaming.com
SUMMARY:MTG Modern Horizons 2 - Take-Home Prerelease
DESCRIPTION:Magic players\, Modern Horizons 2 is upon us! Here are the details for our Moder Horizons 2 Take-Home Prerelease: \n• Dates: Friday\, June 11th – Thursday\, June 17th*\n• Start Time: 11am each day\n• Entry: $50\n• Early Sale Promotion: Set Booster boxes will be available for purchase during the length of the Prerelease*! \n*While supplies last
URL:https://tatesgaming.com/event/mtg-modern-horizons-2-take-home-prerelease/
LOCATION:TATE’S Gaming Satellite\, 4580 N. University Drive\, Lauderhill\, FL\, 33351\, United States
CATEGORIES:Magic the Gathering,Slider Feature
ATTACH;FMTTYPE=image/png:https://tatesgaming.com/wp-content/uploads/2021/05/mh2_prerelease_slider.png
GEO:26.1823829;-80.2509514
X-APPLE-STRUCTURED-LOCATION;VALUE=URI;X-ADDRESS=TATE’S Gaming Satellite 4580 N. University Drive Lauderhill FL 33351 United States;X-APPLE-RADIUS=500;X-TITLE=4580 N. University Drive:geo:-80.2509514,26.1823829
END:VEVENT
BEGIN:VEVENT
DTSTART;TZID=America/New_York:20210612T120000
DTEND;TZID=America/New_York:20210612T170000
DTSTAMP:20260424T100820
CREATED:20210524T230258Z
LAST-MODIFIED:20210524T230259Z
UID:10000818-1623499200-1623517200@tatesgaming.com
SUMMARY:MTG Modern Horizons 2 - In-Store Prerelease
DESCRIPTION:Join us for our Modern Horizons 2 Prerelease! This is a Sealed tournament for the Modern aficionado looking to get their hands on the upcoming set\, Modern Horizons 2\, one week before it officially releases in stores!\nPlayers will receive six booster packs of Modern Horizons 2 in their Prerelease Kits to construct a deck of minimum 40 cards to battle it out with their newly formed deck in a four round tournament for glory and prizes! (We’ll provide the basic lands.) \nHere are the details: \n• Date: Saturday June 12th\n• Time: 12 noon\n• Entry: $50.00.\n• Swiss. Four rounds. No playoff cut.\n• Prize support: 1 Modern Horizons 2 Set booster pack per win\n• Player Cap: 24 Players\n• Registration: You must preregister in-store to secure your spot in the Prerelease!
URL:https://tatesgaming.com/event/mtg-modern-horizons-2-in-store-prerelease/
LOCATION:TATE’S Gaming Satellite\, 4580 N. University Drive\, Lauderhill\, FL\, 33351\, United States
CATEGORIES:Magic the Gathering,Slider Feature
ATTACH;FMTTYPE=image/png:https://tatesgaming.com/wp-content/uploads/2021/05/mh2_prerelease_instore_slider.png
GEO:26.1823829;-80.2509514
X-APPLE-STRUCTURED-LOCATION;VALUE=URI;X-ADDRESS=TATE’S Gaming Satellite 4580 N. University Drive Lauderhill FL 33351 United States;X-APPLE-RADIUS=500;X-TITLE=4580 N. University Drive:geo:-80.2509514,26.1823829
END:VEVENT
END:VCALENDAR