BEGIN:VCALENDAR
VERSION:2.0
PRODID:-//Tate&#039;s Gaming Satellite - ECPv6.15.20//NONSGML v1.0//EN
CALSCALE:GREGORIAN
METHOD:PUBLISH
X-ORIGINAL-URL:https://tatesgaming.com
X-WR-CALDESC:Events for Tate&#039;s Gaming Satellite
REFRESH-INTERVAL;VALUE=DURATION:PT1H
X-Robots-Tag:noindex
X-PUBLISHED-TTL:PT1H
BEGIN:VTIMEZONE
TZID:UTC
BEGIN:STANDARD
TZOFFSETFROM:+0000
TZOFFSETTO:+0000
TZNAME:UTC
DTSTART:20200101T000000
END:STANDARD
END:VTIMEZONE
BEGIN:VEVENT
DTSTART;TZID=UTC:20210709T183000
DTEND;TZID=UTC:20210709T220000
DTSTAMP:20260424T113601
CREATED:20180311T030521Z
LAST-MODIFIED:20230626T054201Z
UID:10000311-1625855400-1625868000@tatesgaming.com
SUMMARY:Friday Night Magic - DRAFT
DESCRIPTION:Join us for our FNM Drafts! Entry for each Draft is $15. Prize support is 7-3-1-1 with a foil promo pack going to first place!
URL:https://tatesgaming.com/event/friday-night-magic-modern-draft/2021-07-09/
LOCATION:TATE’S Gaming Satellite\, 4580 N. University Drive\, Lauderhill\, FL\, 33351\, United States
CATEGORIES:Magic the Gathering
ATTACH;FMTTYPE=image/png:https://tatesgaming.com/wp-content/uploads/2018/03/dmu-draft-slider.png
GEO:26.1823829;-80.2509514
X-APPLE-STRUCTURED-LOCATION;VALUE=URI;X-ADDRESS=TATE’S Gaming Satellite 4580 N. University Drive Lauderhill FL 33351 United States;X-APPLE-RADIUS=500;X-TITLE=4580 N. University Drive:geo:-80.2509514,26.1823829
END:VEVENT
BEGIN:VEVENT
DTSTART;TZID=UTC:20210716T183000
DTEND;TZID=UTC:20210716T220000
DTSTAMP:20260424T113601
CREATED:20180311T030521Z
LAST-MODIFIED:20230626T054201Z
UID:10000312-1626460200-1626472800@tatesgaming.com
SUMMARY:Friday Night Magic - DRAFT
DESCRIPTION:Join us for our FNM Drafts! Entry for each Draft is $15. Prize support is 7-3-1-1 with a foil promo pack going to first place!
URL:https://tatesgaming.com/event/friday-night-magic-modern-draft/2021-07-16/
LOCATION:TATE’S Gaming Satellite\, 4580 N. University Drive\, Lauderhill\, FL\, 33351\, United States
CATEGORIES:Magic the Gathering
ATTACH;FMTTYPE=image/png:https://tatesgaming.com/wp-content/uploads/2018/03/dmu-draft-slider.png
GEO:26.1823829;-80.2509514
X-APPLE-STRUCTURED-LOCATION;VALUE=URI;X-ADDRESS=TATE’S Gaming Satellite 4580 N. University Drive Lauderhill FL 33351 United States;X-APPLE-RADIUS=500;X-TITLE=4580 N. University Drive:geo:-80.2509514,26.1823829
END:VEVENT
BEGIN:VEVENT
DTSTART;TZID=UTC:20210723T183000
DTEND;TZID=UTC:20210723T220000
DTSTAMP:20260424T113601
CREATED:20180311T030521Z
LAST-MODIFIED:20230626T054201Z
UID:10000313-1627065000-1627077600@tatesgaming.com
SUMMARY:Friday Night Magic - DRAFT
DESCRIPTION:Join us for our FNM Drafts! Entry for each Draft is $15. Prize support is 7-3-1-1 with a foil promo pack going to first place!
URL:https://tatesgaming.com/event/friday-night-magic-modern-draft/2021-07-23/
LOCATION:TATE’S Gaming Satellite\, 4580 N. University Drive\, Lauderhill\, FL\, 33351\, United States
CATEGORIES:Magic the Gathering
ATTACH;FMTTYPE=image/png:https://tatesgaming.com/wp-content/uploads/2018/03/dmu-draft-slider.png
GEO:26.1823829;-80.2509514
X-APPLE-STRUCTURED-LOCATION;VALUE=URI;X-ADDRESS=TATE’S Gaming Satellite 4580 N. University Drive Lauderhill FL 33351 United States;X-APPLE-RADIUS=500;X-TITLE=4580 N. University Drive:geo:-80.2509514,26.1823829
END:VEVENT
BEGIN:VEVENT
DTSTART;TZID=UTC:20210730T183000
DTEND;TZID=UTC:20210730T220000
DTSTAMP:20260424T113601
CREATED:20180311T030521Z
LAST-MODIFIED:20230626T054201Z
UID:10000314-1627669800-1627682400@tatesgaming.com
SUMMARY:Friday Night Magic - DRAFT
DESCRIPTION:Join us for our FNM Drafts! Entry for each Draft is $15. Prize support is 7-3-1-1 with a foil promo pack going to first place!
URL:https://tatesgaming.com/event/friday-night-magic-modern-draft/2021-07-30/
LOCATION:TATE’S Gaming Satellite\, 4580 N. University Drive\, Lauderhill\, FL\, 33351\, United States
CATEGORIES:Magic the Gathering
ATTACH;FMTTYPE=image/png:https://tatesgaming.com/wp-content/uploads/2018/03/dmu-draft-slider.png
GEO:26.1823829;-80.2509514
X-APPLE-STRUCTURED-LOCATION;VALUE=URI;X-ADDRESS=TATE’S Gaming Satellite 4580 N. University Drive Lauderhill FL 33351 United States;X-APPLE-RADIUS=500;X-TITLE=4580 N. University Drive:geo:-80.2509514,26.1823829
END:VEVENT
END:VCALENDAR