BEGIN:VCALENDAR
VERSION:2.0
PRODID:-//Tate&#039;s Gaming Satellite - ECPv6.15.20//NONSGML v1.0//EN
CALSCALE:GREGORIAN
METHOD:PUBLISH
X-ORIGINAL-URL:https://tatesgaming.com
X-WR-CALDESC:Events for Tate&#039;s Gaming Satellite
REFRESH-INTERVAL;VALUE=DURATION:PT1H
X-Robots-Tag:noindex
X-PUBLISHED-TTL:PT1H
BEGIN:VTIMEZONE
TZID:UTC
BEGIN:STANDARD
TZOFFSETFROM:+0000
TZOFFSETTO:+0000
TZNAME:UTC
DTSTART:20200101T000000
END:STANDARD
END:VTIMEZONE
BEGIN:VEVENT
DTSTART;TZID=UTC:20210806T183000
DTEND;TZID=UTC:20210806T220000
DTSTAMP:20260424T125740
CREATED:20180311T030521Z
LAST-MODIFIED:20230626T054201Z
UID:10000315-1628274600-1628287200@tatesgaming.com
SUMMARY:Friday Night Magic - DRAFT
DESCRIPTION:Join us for our FNM Drafts! Entry for each Draft is $15. Prize support is 7-3-1-1 with a foil promo pack going to first place!
URL:https://tatesgaming.com/event/friday-night-magic-modern-draft/2021-08-06/
LOCATION:TATE’S Gaming Satellite\, 4580 N. University Drive\, Lauderhill\, FL\, 33351\, United States
CATEGORIES:Magic the Gathering
ATTACH;FMTTYPE=image/png:https://tatesgaming.com/wp-content/uploads/2018/03/dmu-draft-slider.png
GEO:26.1823829;-80.2509514
X-APPLE-STRUCTURED-LOCATION;VALUE=URI;X-ADDRESS=TATE’S Gaming Satellite 4580 N. University Drive Lauderhill FL 33351 United States;X-APPLE-RADIUS=500;X-TITLE=4580 N. University Drive:geo:-80.2509514,26.1823829
END:VEVENT
BEGIN:VEVENT
DTSTART;TZID=UTC:20210813T183000
DTEND;TZID=UTC:20210813T220000
DTSTAMP:20260424T125740
CREATED:20180311T030521Z
LAST-MODIFIED:20230626T054201Z
UID:10000316-1628879400-1628892000@tatesgaming.com
SUMMARY:Friday Night Magic - DRAFT
DESCRIPTION:Join us for our FNM Drafts! Entry for each Draft is $15. Prize support is 7-3-1-1 with a foil promo pack going to first place!
URL:https://tatesgaming.com/event/friday-night-magic-modern-draft/2021-08-13/
LOCATION:TATE’S Gaming Satellite\, 4580 N. University Drive\, Lauderhill\, FL\, 33351\, United States
CATEGORIES:Magic the Gathering
ATTACH;FMTTYPE=image/png:https://tatesgaming.com/wp-content/uploads/2018/03/dmu-draft-slider.png
GEO:26.1823829;-80.2509514
X-APPLE-STRUCTURED-LOCATION;VALUE=URI;X-ADDRESS=TATE’S Gaming Satellite 4580 N. University Drive Lauderhill FL 33351 United States;X-APPLE-RADIUS=500;X-TITLE=4580 N. University Drive:geo:-80.2509514,26.1823829
END:VEVENT
BEGIN:VEVENT
DTSTART;TZID=UTC:20210820T183000
DTEND;TZID=UTC:20210820T220000
DTSTAMP:20260424T125740
CREATED:20180311T030521Z
LAST-MODIFIED:20230626T054201Z
UID:10000317-1629484200-1629496800@tatesgaming.com
SUMMARY:Friday Night Magic - DRAFT
DESCRIPTION:Join us for our FNM Drafts! Entry for each Draft is $15. Prize support is 7-3-1-1 with a foil promo pack going to first place!
URL:https://tatesgaming.com/event/friday-night-magic-modern-draft/2021-08-20/
LOCATION:TATE’S Gaming Satellite\, 4580 N. University Drive\, Lauderhill\, FL\, 33351\, United States
CATEGORIES:Magic the Gathering
ATTACH;FMTTYPE=image/png:https://tatesgaming.com/wp-content/uploads/2018/03/dmu-draft-slider.png
GEO:26.1823829;-80.2509514
X-APPLE-STRUCTURED-LOCATION;VALUE=URI;X-ADDRESS=TATE’S Gaming Satellite 4580 N. University Drive Lauderhill FL 33351 United States;X-APPLE-RADIUS=500;X-TITLE=4580 N. University Drive:geo:-80.2509514,26.1823829
END:VEVENT
BEGIN:VEVENT
DTSTART;TZID=UTC:20210827T183000
DTEND;TZID=UTC:20210827T220000
DTSTAMP:20260424T125740
CREATED:20180311T030521Z
LAST-MODIFIED:20230626T054201Z
UID:10000318-1630089000-1630101600@tatesgaming.com
SUMMARY:Friday Night Magic - DRAFT
DESCRIPTION:Join us for our FNM Drafts! Entry for each Draft is $15. Prize support is 7-3-1-1 with a foil promo pack going to first place!
URL:https://tatesgaming.com/event/friday-night-magic-modern-draft/2021-08-27/
LOCATION:TATE’S Gaming Satellite\, 4580 N. University Drive\, Lauderhill\, FL\, 33351\, United States
CATEGORIES:Magic the Gathering
ATTACH;FMTTYPE=image/png:https://tatesgaming.com/wp-content/uploads/2018/03/dmu-draft-slider.png
GEO:26.1823829;-80.2509514
X-APPLE-STRUCTURED-LOCATION;VALUE=URI;X-ADDRESS=TATE’S Gaming Satellite 4580 N. University Drive Lauderhill FL 33351 United States;X-APPLE-RADIUS=500;X-TITLE=4580 N. University Drive:geo:-80.2509514,26.1823829
END:VEVENT
END:VCALENDAR