BEGIN:VCALENDAR
VERSION:2.0
PRODID:-//Tate&#039;s Gaming Satellite - ECPv6.15.20//NONSGML v1.0//EN
CALSCALE:GREGORIAN
METHOD:PUBLISH
X-WR-CALNAME:Tate&#039;s Gaming Satellite
X-ORIGINAL-URL:https://tatesgaming.com
X-WR-CALDESC:Events for Tate&#039;s Gaming Satellite
REFRESH-INTERVAL;VALUE=DURATION:PT1H
X-Robots-Tag:noindex
X-PUBLISHED-TTL:PT1H
BEGIN:VTIMEZONE
TZID:America/New_York
BEGIN:DAYLIGHT
TZOFFSETFROM:-0500
TZOFFSETTO:-0400
TZNAME:EDT
DTSTART:20220313T070000
END:DAYLIGHT
BEGIN:STANDARD
TZOFFSETFROM:-0400
TZOFFSETTO:-0500
TZNAME:EST
DTSTART:20221106T060000
END:STANDARD
BEGIN:DAYLIGHT
TZOFFSETFROM:-0500
TZOFFSETTO:-0400
TZNAME:EDT
DTSTART:20230312T070000
END:DAYLIGHT
BEGIN:STANDARD
TZOFFSETFROM:-0400
TZOFFSETTO:-0500
TZNAME:EST
DTSTART:20231105T060000
END:STANDARD
BEGIN:DAYLIGHT
TZOFFSETFROM:-0500
TZOFFSETTO:-0400
TZNAME:EDT
DTSTART:20240310T070000
END:DAYLIGHT
BEGIN:STANDARD
TZOFFSETFROM:-0400
TZOFFSETTO:-0500
TZNAME:EST
DTSTART:20241103T060000
END:STANDARD
END:VTIMEZONE
BEGIN:VEVENT
DTSTART;TZID=America/New_York:20231001T140000
DTEND;TZID=America/New_York:20231001T170000
DTSTAMP:20260421T150712
CREATED:20221201T222613Z
LAST-MODIFIED:20240410T175845Z
UID:10001077-1696168800-1696179600@tatesgaming.com
SUMMARY:One Piece TCG - Store Tournament
DESCRIPTION:Calling all Pirates! \nJoin us for our weekly One Piece TCG tournaments! Here are the details: \n• Date: Every Sunday\n• Time: 2pm\n• Entry: $10\n• Format: Best-of-One\, 35 minute match time limit with 5 minutes of extra time
URL:https://tatesgaming.com/event/one-piece-tcg-store-tournament-vol-1/2023-10-01/
LOCATION:TATE’S Gaming Satellite\, 4580 N. University Drive\, Lauderhill\, FL\, 33351\, United States
CATEGORIES:One Piece TCG
ATTACH;FMTTYPE=image/png:https://tatesgaming.com/wp-content/uploads/2022/09/op-tcg-slider.png
GEO:26.1823829;-80.2509514
X-APPLE-STRUCTURED-LOCATION;VALUE=URI;X-ADDRESS=TATE’S Gaming Satellite 4580 N. University Drive Lauderhill FL 33351 United States;X-APPLE-RADIUS=500;X-TITLE=4580 N. University Drive:geo:-80.2509514,26.1823829
END:VEVENT
BEGIN:VEVENT
DTSTART;TZID=America/New_York:20231008T140000
DTEND;TZID=America/New_York:20231008T170000
DTSTAMP:20260421T150712
CREATED:20221201T222613Z
LAST-MODIFIED:20240410T175845Z
UID:10002150-1696773600-1696784400@tatesgaming.com
SUMMARY:One Piece TCG - Store Tournament
DESCRIPTION:Calling all Pirates! \nJoin us for our weekly One Piece TCG tournaments! Here are the details: \n• Date: Every Sunday\n• Time: 2pm\n• Entry: $10\n• Format: Best-of-One\, 35 minute match time limit with 5 minutes of extra time
URL:https://tatesgaming.com/event/one-piece-tcg-store-tournament-vol-1/2023-10-08/
LOCATION:TATE’S Gaming Satellite\, 4580 N. University Drive\, Lauderhill\, FL\, 33351\, United States
CATEGORIES:One Piece TCG
ATTACH;FMTTYPE=image/png:https://tatesgaming.com/wp-content/uploads/2022/09/op-tcg-slider.png
GEO:26.1823829;-80.2509514
X-APPLE-STRUCTURED-LOCATION;VALUE=URI;X-ADDRESS=TATE’S Gaming Satellite 4580 N. University Drive Lauderhill FL 33351 United States;X-APPLE-RADIUS=500;X-TITLE=4580 N. University Drive:geo:-80.2509514,26.1823829
END:VEVENT
BEGIN:VEVENT
DTSTART;TZID=America/New_York:20231015T140000
DTEND;TZID=America/New_York:20231015T170000
DTSTAMP:20260421T150712
CREATED:20221201T222613Z
LAST-MODIFIED:20240410T175845Z
UID:10002151-1697378400-1697389200@tatesgaming.com
SUMMARY:One Piece TCG - Store Tournament
DESCRIPTION:Calling all Pirates! \nJoin us for our weekly One Piece TCG tournaments! Here are the details: \n• Date: Every Sunday\n• Time: 2pm\n• Entry: $10\n• Format: Best-of-One\, 35 minute match time limit with 5 minutes of extra time
URL:https://tatesgaming.com/event/one-piece-tcg-store-tournament-vol-1/2023-10-15/
LOCATION:TATE’S Gaming Satellite\, 4580 N. University Drive\, Lauderhill\, FL\, 33351\, United States
CATEGORIES:One Piece TCG
ATTACH;FMTTYPE=image/png:https://tatesgaming.com/wp-content/uploads/2022/09/op-tcg-slider.png
GEO:26.1823829;-80.2509514
X-APPLE-STRUCTURED-LOCATION;VALUE=URI;X-ADDRESS=TATE’S Gaming Satellite 4580 N. University Drive Lauderhill FL 33351 United States;X-APPLE-RADIUS=500;X-TITLE=4580 N. University Drive:geo:-80.2509514,26.1823829
END:VEVENT
BEGIN:VEVENT
DTSTART;TZID=America/New_York:20231022T140000
DTEND;TZID=America/New_York:20231022T170000
DTSTAMP:20260421T150712
CREATED:20221201T222613Z
LAST-MODIFIED:20240410T175845Z
UID:10002152-1697983200-1697994000@tatesgaming.com
SUMMARY:One Piece TCG - Store Tournament
DESCRIPTION:Calling all Pirates! \nJoin us for our weekly One Piece TCG tournaments! Here are the details: \n• Date: Every Sunday\n• Time: 2pm\n• Entry: $10\n• Format: Best-of-One\, 35 minute match time limit with 5 minutes of extra time
URL:https://tatesgaming.com/event/one-piece-tcg-store-tournament-vol-1/2023-10-22/
LOCATION:TATE’S Gaming Satellite\, 4580 N. University Drive\, Lauderhill\, FL\, 33351\, United States
CATEGORIES:One Piece TCG
ATTACH;FMTTYPE=image/png:https://tatesgaming.com/wp-content/uploads/2022/09/op-tcg-slider.png
GEO:26.1823829;-80.2509514
X-APPLE-STRUCTURED-LOCATION;VALUE=URI;X-ADDRESS=TATE’S Gaming Satellite 4580 N. University Drive Lauderhill FL 33351 United States;X-APPLE-RADIUS=500;X-TITLE=4580 N. University Drive:geo:-80.2509514,26.1823829
END:VEVENT
BEGIN:VEVENT
DTSTART;TZID=America/New_York:20231029T140000
DTEND;TZID=America/New_York:20231029T170000
DTSTAMP:20260421T150712
CREATED:20221201T222613Z
LAST-MODIFIED:20240410T175845Z
UID:10002153-1698588000-1698598800@tatesgaming.com
SUMMARY:One Piece TCG - Store Tournament
DESCRIPTION:Calling all Pirates! \nJoin us for our weekly One Piece TCG tournaments! Here are the details: \n• Date: Every Sunday\n• Time: 2pm\n• Entry: $10\n• Format: Best-of-One\, 35 minute match time limit with 5 minutes of extra time
URL:https://tatesgaming.com/event/one-piece-tcg-store-tournament-vol-1/2023-10-29/
LOCATION:TATE’S Gaming Satellite\, 4580 N. University Drive\, Lauderhill\, FL\, 33351\, United States
CATEGORIES:One Piece TCG
ATTACH;FMTTYPE=image/png:https://tatesgaming.com/wp-content/uploads/2022/09/op-tcg-slider.png
GEO:26.1823829;-80.2509514
X-APPLE-STRUCTURED-LOCATION;VALUE=URI;X-ADDRESS=TATE’S Gaming Satellite 4580 N. University Drive Lauderhill FL 33351 United States;X-APPLE-RADIUS=500;X-TITLE=4580 N. University Drive:geo:-80.2509514,26.1823829
END:VEVENT
END:VCALENDAR