BEGIN:VCALENDAR
VERSION:2.0
PRODID:-//Tate&#039;s Gaming Satellite - ECPv6.15.20//NONSGML v1.0//EN
CALSCALE:GREGORIAN
METHOD:PUBLISH
X-ORIGINAL-URL:https://tatesgaming.com
X-WR-CALDESC:Events for Tate&#039;s Gaming Satellite
REFRESH-INTERVAL;VALUE=DURATION:PT1H
X-Robots-Tag:noindex
X-PUBLISHED-TTL:PT1H
BEGIN:VTIMEZONE
TZID:America/New_York
BEGIN:DAYLIGHT
TZOFFSETFROM:-0500
TZOFFSETTO:-0400
TZNAME:EDT
DTSTART:20270314T070000
END:DAYLIGHT
BEGIN:STANDARD
TZOFFSETFROM:-0400
TZOFFSETTO:-0500
TZNAME:EST
DTSTART:20271107T060000
END:STANDARD
BEGIN:DAYLIGHT
TZOFFSETFROM:-0500
TZOFFSETTO:-0400
TZNAME:EDT
DTSTART:20280312T070000
END:DAYLIGHT
BEGIN:STANDARD
TZOFFSETFROM:-0400
TZOFFSETTO:-0500
TZNAME:EST
DTSTART:20281105T060000
END:STANDARD
BEGIN:DAYLIGHT
TZOFFSETFROM:-0500
TZOFFSETTO:-0400
TZNAME:EDT
DTSTART:20290311T070000
END:DAYLIGHT
BEGIN:STANDARD
TZOFFSETFROM:-0400
TZOFFSETTO:-0500
TZNAME:EST
DTSTART:20291104T060000
END:STANDARD
END:VTIMEZONE
BEGIN:VEVENT
DTSTART;TZID=America/New_York:20280402T140000
DTEND;TZID=America/New_York:20280402T170000
DTSTAMP:20260423T043627
CREATED:20221201T222613Z
LAST-MODIFIED:20240410T175845Z
UID:10002384-1838296800-1838307600@tatesgaming.com
SUMMARY:One Piece TCG - Store Tournament
DESCRIPTION:Calling all Pirates! \nJoin us for our weekly One Piece TCG tournaments! Here are the details: \n• Date: Every Sunday\n• Time: 2pm\n• Entry: $10\n• Format: Best-of-One\, 35 minute match time limit with 5 minutes of extra time
URL:https://tatesgaming.com/event/one-piece-tcg-store-tournament-vol-1/2028-04-02/
LOCATION:TATE’S Gaming Satellite\, 4580 N. University Drive\, Lauderhill\, FL\, 33351\, United States
CATEGORIES:One Piece TCG
ATTACH;FMTTYPE=image/png:https://tatesgaming.com/wp-content/uploads/2022/09/op-tcg-slider.png
GEO:26.1823829;-80.2509514
X-APPLE-STRUCTURED-LOCATION;VALUE=URI;X-ADDRESS=TATE’S Gaming Satellite 4580 N. University Drive Lauderhill FL 33351 United States;X-APPLE-RADIUS=500;X-TITLE=4580 N. University Drive:geo:-80.2509514,26.1823829
END:VEVENT
BEGIN:VEVENT
DTSTART;TZID=America/New_York:20280409T140000
DTEND;TZID=America/New_York:20280409T170000
DTSTAMP:20260423T043627
CREATED:20221201T222613Z
LAST-MODIFIED:20240410T175845Z
UID:10002385-1838901600-1838912400@tatesgaming.com
SUMMARY:One Piece TCG - Store Tournament
DESCRIPTION:Calling all Pirates! \nJoin us for our weekly One Piece TCG tournaments! Here are the details: \n• Date: Every Sunday\n• Time: 2pm\n• Entry: $10\n• Format: Best-of-One\, 35 minute match time limit with 5 minutes of extra time
URL:https://tatesgaming.com/event/one-piece-tcg-store-tournament-vol-1/2028-04-09/
LOCATION:TATE’S Gaming Satellite\, 4580 N. University Drive\, Lauderhill\, FL\, 33351\, United States
CATEGORIES:One Piece TCG
ATTACH;FMTTYPE=image/png:https://tatesgaming.com/wp-content/uploads/2022/09/op-tcg-slider.png
GEO:26.1823829;-80.2509514
X-APPLE-STRUCTURED-LOCATION;VALUE=URI;X-ADDRESS=TATE’S Gaming Satellite 4580 N. University Drive Lauderhill FL 33351 United States;X-APPLE-RADIUS=500;X-TITLE=4580 N. University Drive:geo:-80.2509514,26.1823829
END:VEVENT
BEGIN:VEVENT
DTSTART;TZID=America/New_York:20280416T140000
DTEND;TZID=America/New_York:20280416T170000
DTSTAMP:20260423T043627
CREATED:20221201T222613Z
LAST-MODIFIED:20240410T175845Z
UID:10002386-1839506400-1839517200@tatesgaming.com
SUMMARY:One Piece TCG - Store Tournament
DESCRIPTION:Calling all Pirates! \nJoin us for our weekly One Piece TCG tournaments! Here are the details: \n• Date: Every Sunday\n• Time: 2pm\n• Entry: $10\n• Format: Best-of-One\, 35 minute match time limit with 5 minutes of extra time
URL:https://tatesgaming.com/event/one-piece-tcg-store-tournament-vol-1/2028-04-16/
LOCATION:TATE’S Gaming Satellite\, 4580 N. University Drive\, Lauderhill\, FL\, 33351\, United States
CATEGORIES:One Piece TCG
ATTACH;FMTTYPE=image/png:https://tatesgaming.com/wp-content/uploads/2022/09/op-tcg-slider.png
GEO:26.1823829;-80.2509514
X-APPLE-STRUCTURED-LOCATION;VALUE=URI;X-ADDRESS=TATE’S Gaming Satellite 4580 N. University Drive Lauderhill FL 33351 United States;X-APPLE-RADIUS=500;X-TITLE=4580 N. University Drive:geo:-80.2509514,26.1823829
END:VEVENT
BEGIN:VEVENT
DTSTART;TZID=America/New_York:20280423T140000
DTEND;TZID=America/New_York:20280423T170000
DTSTAMP:20260423T043627
CREATED:20221201T222613Z
LAST-MODIFIED:20240410T175845Z
UID:10002387-1840111200-1840122000@tatesgaming.com
SUMMARY:One Piece TCG - Store Tournament
DESCRIPTION:Calling all Pirates! \nJoin us for our weekly One Piece TCG tournaments! Here are the details: \n• Date: Every Sunday\n• Time: 2pm\n• Entry: $10\n• Format: Best-of-One\, 35 minute match time limit with 5 minutes of extra time
URL:https://tatesgaming.com/event/one-piece-tcg-store-tournament-vol-1/2028-04-23/
LOCATION:TATE’S Gaming Satellite\, 4580 N. University Drive\, Lauderhill\, FL\, 33351\, United States
CATEGORIES:One Piece TCG
ATTACH;FMTTYPE=image/png:https://tatesgaming.com/wp-content/uploads/2022/09/op-tcg-slider.png
GEO:26.1823829;-80.2509514
X-APPLE-STRUCTURED-LOCATION;VALUE=URI;X-ADDRESS=TATE’S Gaming Satellite 4580 N. University Drive Lauderhill FL 33351 United States;X-APPLE-RADIUS=500;X-TITLE=4580 N. University Drive:geo:-80.2509514,26.1823829
END:VEVENT
BEGIN:VEVENT
DTSTART;TZID=America/New_York:20280430T140000
DTEND;TZID=America/New_York:20280430T170000
DTSTAMP:20260423T043628
CREATED:20221201T222613Z
LAST-MODIFIED:20240410T175845Z
UID:10002388-1840716000-1840726800@tatesgaming.com
SUMMARY:One Piece TCG - Store Tournament
DESCRIPTION:Calling all Pirates! \nJoin us for our weekly One Piece TCG tournaments! Here are the details: \n• Date: Every Sunday\n• Time: 2pm\n• Entry: $10\n• Format: Best-of-One\, 35 minute match time limit with 5 minutes of extra time
URL:https://tatesgaming.com/event/one-piece-tcg-store-tournament-vol-1/2028-04-30/
LOCATION:TATE’S Gaming Satellite\, 4580 N. University Drive\, Lauderhill\, FL\, 33351\, United States
CATEGORIES:One Piece TCG
ATTACH;FMTTYPE=image/png:https://tatesgaming.com/wp-content/uploads/2022/09/op-tcg-slider.png
GEO:26.1823829;-80.2509514
X-APPLE-STRUCTURED-LOCATION;VALUE=URI;X-ADDRESS=TATE’S Gaming Satellite 4580 N. University Drive Lauderhill FL 33351 United States;X-APPLE-RADIUS=500;X-TITLE=4580 N. University Drive:geo:-80.2509514,26.1823829
END:VEVENT
END:VCALENDAR