BEGIN:VCALENDAR
VERSION:2.0
PRODID:-//Tate&#039;s Gaming Satellite - ECPv6.15.20//NONSGML v1.0//EN
CALSCALE:GREGORIAN
METHOD:PUBLISH
X-WR-CALNAME:Tate&#039;s Gaming Satellite
X-ORIGINAL-URL:https://tatesgaming.com
X-WR-CALDESC:Events for Tate&#039;s Gaming Satellite
REFRESH-INTERVAL;VALUE=DURATION:PT1H
X-Robots-Tag:noindex
X-PUBLISHED-TTL:PT1H
BEGIN:VTIMEZONE
TZID:America/New_York
BEGIN:DAYLIGHT
TZOFFSETFROM:-0500
TZOFFSETTO:-0400
TZNAME:EDT
DTSTART:20170312T070000
END:DAYLIGHT
BEGIN:STANDARD
TZOFFSETFROM:-0400
TZOFFSETTO:-0500
TZNAME:EST
DTSTART:20171105T060000
END:STANDARD
BEGIN:DAYLIGHT
TZOFFSETFROM:-0500
TZOFFSETTO:-0400
TZNAME:EDT
DTSTART:20180311T070000
END:DAYLIGHT
BEGIN:STANDARD
TZOFFSETFROM:-0400
TZOFFSETTO:-0500
TZNAME:EST
DTSTART:20181104T060000
END:STANDARD
BEGIN:DAYLIGHT
TZOFFSETFROM:-0500
TZOFFSETTO:-0400
TZNAME:EDT
DTSTART:20190310T070000
END:DAYLIGHT
BEGIN:STANDARD
TZOFFSETFROM:-0400
TZOFFSETTO:-0500
TZNAME:EST
DTSTART:20191103T060000
END:STANDARD
END:VTIMEZONE
BEGIN:VTIMEZONE
TZID:UTC
BEGIN:STANDARD
TZOFFSETFROM:+0000
TZOFFSETTO:+0000
TZNAME:UTC
DTSTART:20170101T000000
END:STANDARD
END:VTIMEZONE
BEGIN:VEVENT
DTSTART;TZID=America/New_York:20180405T180000
DTEND;TZID=America/New_York:20180405T210000
DTSTAMP:20260423T093959
CREATED:20180331T231818Z
LAST-MODIFIED:20190812T170955Z
UID:10000075-1522951200-1522962000@tatesgaming.com
SUMMARY:HeroClix Tournament
DESCRIPTION:Come get your Clix fix at our weekly HeroClix tournament! \nWe host a weekly tournament every Sunday starting at 3:00pm. Don’t know how to play? No worries! We would love to teach you! Our friendly instructor\, Chris will be happy to show you the in’s and out’s of  all things Clix. \nEntry cost may vary on type of tournament. \nStop by any Sunday! \nInstructor\nChris \n 
URL:https://tatesgaming.com/event/heroclix-tournament/
LOCATION:TATE’S Gaming Satellite\, 4580 N. University Drive\, Lauderhill\, FL\, 33351\, United States
CATEGORIES:HeroClix
ATTACH;FMTTYPE=image/jpeg:https://tatesgaming.com/wp-content/uploads/2018/03/HeroClix-Event-Slider.jpg
GEO:26.1823829;-80.2509514
X-APPLE-STRUCTURED-LOCATION;VALUE=URI;X-ADDRESS=TATE’S Gaming Satellite 4580 N. University Drive Lauderhill FL 33351 United States;X-APPLE-RADIUS=500;X-TITLE=4580 N. University Drive:geo:-80.2509514,26.1823829
END:VEVENT
BEGIN:VEVENT
DTSTART;TZID=UTC:20180402T160000
DTEND;TZID=UTC:20180402T200000
DTSTAMP:20260423T093959
CREATED:20180218T034639Z
LAST-MODIFIED:20180818T193248Z
UID:10000278-1522684800-1522699200@tatesgaming.com
SUMMARY:Warmachine / Hordes
DESCRIPTION:Join us every Monday at 4:00pm for a ever strategic game of Warmachine / Hordes. Beginners are welcome!
URL:https://tatesgaming.com/event/warmachine-hordes/2018-04-02/
LOCATION:TATE’S Gaming Satellite\, 4580 N. University Drive\, Lauderhill\, FL\, 33351\, United States
CATEGORIES:Warmachine/Hordes
ATTACH;FMTTYPE=image/jpeg:https://tatesgaming.com/wp-content/uploads/2018/02/warmachine1_cal.jpg
GEO:26.1823829;-80.2509514
X-APPLE-STRUCTURED-LOCATION;VALUE=URI;X-ADDRESS=TATE’S Gaming Satellite 4580 N. University Drive Lauderhill FL 33351 United States;X-APPLE-RADIUS=500;X-TITLE=4580 N. University Drive:geo:-80.2509514,26.1823829
END:VEVENT
BEGIN:VEVENT
DTSTART;TZID=UTC:20180326T160000
DTEND;TZID=UTC:20180326T200000
DTSTAMP:20260423T093959
CREATED:20180218T034639Z
LAST-MODIFIED:20180818T193248Z
UID:10000277-1522080000-1522094400@tatesgaming.com
SUMMARY:Warmachine / Hordes
DESCRIPTION:Join us every Monday at 4:00pm for a ever strategic game of Warmachine / Hordes. Beginners are welcome!
URL:https://tatesgaming.com/event/warmachine-hordes/2018-03-26/
LOCATION:TATE’S Gaming Satellite\, 4580 N. University Drive\, Lauderhill\, FL\, 33351\, United States
CATEGORIES:Warmachine/Hordes
ATTACH;FMTTYPE=image/jpeg:https://tatesgaming.com/wp-content/uploads/2018/02/warmachine1_cal.jpg
GEO:26.1823829;-80.2509514
X-APPLE-STRUCTURED-LOCATION;VALUE=URI;X-ADDRESS=TATE’S Gaming Satellite 4580 N. University Drive Lauderhill FL 33351 United States;X-APPLE-RADIUS=500;X-TITLE=4580 N. University Drive:geo:-80.2509514,26.1823829
END:VEVENT
BEGIN:VEVENT
DTSTART;TZID=UTC:20180319T160000
DTEND;TZID=UTC:20180319T200000
DTSTAMP:20260423T093959
CREATED:20180218T034639Z
LAST-MODIFIED:20180818T193248Z
UID:10000276-1521475200-1521489600@tatesgaming.com
SUMMARY:Warmachine / Hordes
DESCRIPTION:Join us every Monday at 4:00pm for a ever strategic game of Warmachine / Hordes. Beginners are welcome!
URL:https://tatesgaming.com/event/warmachine-hordes/2018-03-19/
LOCATION:TATE’S Gaming Satellite\, 4580 N. University Drive\, Lauderhill\, FL\, 33351\, United States
CATEGORIES:Warmachine/Hordes
ATTACH;FMTTYPE=image/jpeg:https://tatesgaming.com/wp-content/uploads/2018/02/warmachine1_cal.jpg
GEO:26.1823829;-80.2509514
X-APPLE-STRUCTURED-LOCATION;VALUE=URI;X-ADDRESS=TATE’S Gaming Satellite 4580 N. University Drive Lauderhill FL 33351 United States;X-APPLE-RADIUS=500;X-TITLE=4580 N. University Drive:geo:-80.2509514,26.1823829
END:VEVENT
BEGIN:VEVENT
DTSTART;TZID=UTC:20180312T160000
DTEND;TZID=UTC:20180312T200000
DTSTAMP:20260423T093959
CREATED:20180218T034639Z
LAST-MODIFIED:20180818T193248Z
UID:10000275-1520870400-1520884800@tatesgaming.com
SUMMARY:Warmachine / Hordes
DESCRIPTION:Join us every Monday at 4:00pm for a ever strategic game of Warmachine / Hordes. Beginners are welcome!
URL:https://tatesgaming.com/event/warmachine-hordes/2018-03-12/
LOCATION:TATE’S Gaming Satellite\, 4580 N. University Drive\, Lauderhill\, FL\, 33351\, United States
CATEGORIES:Warmachine/Hordes
ATTACH;FMTTYPE=image/jpeg:https://tatesgaming.com/wp-content/uploads/2018/02/warmachine1_cal.jpg
GEO:26.1823829;-80.2509514
X-APPLE-STRUCTURED-LOCATION;VALUE=URI;X-ADDRESS=TATE’S Gaming Satellite 4580 N. University Drive Lauderhill FL 33351 United States;X-APPLE-RADIUS=500;X-TITLE=4580 N. University Drive:geo:-80.2509514,26.1823829
END:VEVENT
BEGIN:VEVENT
DTSTART;TZID=UTC:20180305T160000
DTEND;TZID=UTC:20180305T200000
DTSTAMP:20260423T093959
CREATED:20180218T034639Z
LAST-MODIFIED:20180818T193248Z
UID:10000274-1520265600-1520280000@tatesgaming.com
SUMMARY:Warmachine / Hordes
DESCRIPTION:Join us every Monday at 4:00pm for a ever strategic game of Warmachine / Hordes. Beginners are welcome!
URL:https://tatesgaming.com/event/warmachine-hordes/2018-03-05/
LOCATION:TATE’S Gaming Satellite\, 4580 N. University Drive\, Lauderhill\, FL\, 33351\, United States
CATEGORIES:Warmachine/Hordes
ATTACH;FMTTYPE=image/jpeg:https://tatesgaming.com/wp-content/uploads/2018/02/warmachine1_cal.jpg
GEO:26.1823829;-80.2509514
X-APPLE-STRUCTURED-LOCATION;VALUE=URI;X-ADDRESS=TATE’S Gaming Satellite 4580 N. University Drive Lauderhill FL 33351 United States;X-APPLE-RADIUS=500;X-TITLE=4580 N. University Drive:geo:-80.2509514,26.1823829
END:VEVENT
BEGIN:VEVENT
DTSTART;TZID=UTC:20180301T160000
DTEND;TZID=UTC:20180301T200000
DTSTAMP:20260423T093959
CREATED:20180218T034639Z
LAST-MODIFIED:20180818T193248Z
UID:10000273-1519920000-1519934400@tatesgaming.com
SUMMARY:Warmachine / Hordes
DESCRIPTION:Join us every Monday at 4:00pm for a ever strategic game of Warmachine / Hordes. Beginners are welcome!
URL:https://tatesgaming.com/event/warmachine-hordes/2018-03-01/
LOCATION:TATE’S Gaming Satellite\, 4580 N. University Drive\, Lauderhill\, FL\, 33351\, United States
CATEGORIES:Warmachine/Hordes
ATTACH;FMTTYPE=image/jpeg:https://tatesgaming.com/wp-content/uploads/2018/02/warmachine1_cal.jpg
GEO:26.1823829;-80.2509514
X-APPLE-STRUCTURED-LOCATION;VALUE=URI;X-ADDRESS=TATE’S Gaming Satellite 4580 N. University Drive Lauderhill FL 33351 United States;X-APPLE-RADIUS=500;X-TITLE=4580 N. University Drive:geo:-80.2509514,26.1823829
END:VEVENT
END:VCALENDAR