BEGIN:VCALENDAR
VERSION:2.0
PRODID:-//Tate&#039;s Gaming Satellite - ECPv6.15.20//NONSGML v1.0//EN
CALSCALE:GREGORIAN
METHOD:PUBLISH
X-ORIGINAL-URL:https://tatesgaming.com
X-WR-CALDESC:Events for Tate&#039;s Gaming Satellite
REFRESH-INTERVAL;VALUE=DURATION:PT1H
X-Robots-Tag:noindex
X-PUBLISHED-TTL:PT1H
BEGIN:VTIMEZONE
TZID:America/New_York
BEGIN:DAYLIGHT
TZOFFSETFROM:-0500
TZOFFSETTO:-0400
TZNAME:EDT
DTSTART:20180311T070000
END:DAYLIGHT
BEGIN:STANDARD
TZOFFSETFROM:-0400
TZOFFSETTO:-0500
TZNAME:EST
DTSTART:20181104T060000
END:STANDARD
BEGIN:DAYLIGHT
TZOFFSETFROM:-0500
TZOFFSETTO:-0400
TZNAME:EDT
DTSTART:20190310T070000
END:DAYLIGHT
BEGIN:STANDARD
TZOFFSETFROM:-0400
TZOFFSETTO:-0500
TZNAME:EST
DTSTART:20191103T060000
END:STANDARD
BEGIN:DAYLIGHT
TZOFFSETFROM:-0500
TZOFFSETTO:-0400
TZNAME:EDT
DTSTART:20200308T070000
END:DAYLIGHT
BEGIN:STANDARD
TZOFFSETFROM:-0400
TZOFFSETTO:-0500
TZNAME:EST
DTSTART:20201101T060000
END:STANDARD
END:VTIMEZONE
BEGIN:VEVENT
DTSTART;TZID=America/New_York:20190713T130000
DTEND;TZID=America/New_York:20190713T180000
DTSTAMP:20260421T045043
CREATED:20190701T220604Z
LAST-MODIFIED:20190701T220605Z
UID:10000052-1563022800-1563040800@tatesgaming.com
SUMMARY:Warhammer 40K - Kill Team Tournament
DESCRIPTION:Join us for our monthly Kill Team tournament! \n• Entry Fee 20$\n• Registration starts at 11:30AM with dice rolling at 1:00PM\n• Space limited to 16 players\n• Prize support based on attendance\n–\nTournament Format: \n• 125 point Kill Teams ( Core and Elite book only )\n• Kill Team roster up to 20 models\n• No Proxy’s all models must be WYSIWYG ( what you see is what you get )\n• No Commanders \nTournament will use Kill Team Arena boards using Ultra-Close Confines rules will be used in addition to the Kill Team Core Rulebook and Elites supplement. No additional rules from Kill Team Area will be used. \nMission packet will be available the day before event.
URL:https://tatesgaming.com/event/warhammer-40k-kill-team-tournament/
LOCATION:TATE’S Gaming Satellite\, 4580 N. University Drive\, Lauderhill\, FL\, 33351\, United States
ATTACH;FMTTYPE=image/jpeg:https://tatesgaming.com/wp-content/uploads/2019/07/tournamnet_series_updated.jpg
GEO:26.1823829;-80.2509514
X-APPLE-STRUCTURED-LOCATION;VALUE=URI;X-ADDRESS=TATE’S Gaming Satellite 4580 N. University Drive Lauderhill FL 33351 United States;X-APPLE-RADIUS=500;X-TITLE=4580 N. University Drive:geo:-80.2509514,26.1823829
END:VEVENT
END:VCALENDAR